Workbook

Sheet 1. Start Here
B7: StrongLifts 5x5 Advanced Training Program
B8: More info: http://stronglifts.com/stronglifts-advanced/
B11: How to Use this Spreadsheet
B12: Enter your current 1RM or 3RM or 5RM into the yellow cases
B13: Make sure you choose a weight you're 100% certain you can lift
B14: I highly recommend to start with 10% less than your best weight the first time
B15: If it turns out you started too heavy, just add a 5th or 6th week before entering the deload phase
B16: If it turns out you started too light, you're quite bluntly screwed, so better to start too light than too heavy
B17: The spreadsheet will automatically calculate how much weight you should lift each workout, just go to sheet 2 (bottom)
B20: Exercise | C20: Test Weight | D20: Reps | E20: 1RM | F20: 5RM | G20: 5x5RM | H20: New 1RM | I20: 3RM | J20: 3x3RM
B21: Squat | C21: 180 | D21: 1 | E21: =ROUND((((C21)/(1.0278-(0.0278*D21)))/$C$27),0)*$C$27 -> 180 | F21: =ROUND(((E21*(1.0278-(0.0278*5)))/$C$27),0)*$C$27 -> 160 | G21: =ROUND(((F21*0.925)/$C$27),0)*$C$27 -> 147.5 | H21: =ROUND(((('2. StrongLifts 5x5 Advanced'!I44)/(1.0278-(0.0278*5)))/$C$27),0)*$C$27 -> 187.5 | I21: =ROUND(((H21*(1.0278-(0.0278*3)))/$C$27),0)*$C$27 -> 177.5 | J21: =ROUND(((I21*0.95)/$C$27),0)*$C$27 -> 167.5
B22: Bench Press | C22: 100 | D22: 1 | E22: =ROUND((((C22)/(1.0278-(0.0278*D22)))/$C$27),0)*$C$27 -> 100 | F22: =ROUND(((E22*(1.0278-(0.0278*5)))/$C$27),0)*$C$27 -> 90 | G22: =ROUND(((F22*0.925)/$C$27),0)*$C$27 -> 82.5 | H22: =ROUND(((('2. StrongLifts 5x5 Advanced'!I21)/(1.0278-(0.0278*5)))/$C$27),0)*$C$27 -> 107.5 | I22: =ROUND(((H22*(1.0278-(0.0278*3)))/$C$27),0)*$C$27 -> 102.5 | J22: =ROUND(((I22*0.95)/$C$27),0)*$C$27 -> 97.5
B23: Deadlift | C23: 200 | D23: 1 | E23: =ROUND((((C23)/(1.0278-(0.0278*D23)))/$C$27),0)*$C$27 -> 200 | F23: =ROUND(((E23*(1.0278-(0.0278*5)))/$C$27),0)*$C$27 -> 177.5 | G23: =ROUND(((F23*0.925)/$C$27),0)*$C$27 -> 165 | H23: =ROUND(((('2. StrongLifts 5x5 Advanced'!I39*1.075)/(1.0278-(0.0278*5)))/$C$27),0)*$C$27 -> 207.5 | I23: =ROUND(((H23*(1.0278-(0.0278*3)))/$C$27),0)*$C$27 -> 195 | J23: =ROUND(((I23*0.95)/$C$27),0)*$C$27 -> 185
B24: Overhead Press | C24: 70 | D24: 1 | E24: =ROUND((((C24)/(1.0278-(0.0278*D24)))/$C$27),0)*$C$27 -> 70 | F24: =ROUND(((E24*(1.0278-(0.0278*5)))/$C$27),0)*$C$27 -> 62.5 | G24: =ROUND(((F24*0.925)/$C$27),0)*$C$27 -> 57.5 | H24: =ROUND(((('2. StrongLifts 5x5 Advanced'!I36*1.075)/(1.0278-(0.0278*5)))/$C$27),0)*$C$27 -> 72.5 | I24: =ROUND(((H24*(1.0278-(0.0278*3)))/$C$27),0)*$C$27 -> 67.5 | J24: =ROUND(((I24*0.95)/$C$27),0)*$C$27 -> 65
B25: Barbell Row | C25: 90 | D25: 1 | E25: =ROUND((((C25)/(1.0278-(0.0278*D25)))/$C$27),0)*$C$27 -> 90 | F25: =ROUND(((E25*(1.0278-(0.0278*5)))/$C$27),0)*$C$27 -> 80 | G25: =ROUND(((F25*0.925)/$C$27),0)*$C$27 -> 75 | H25: =ROUND(((('2. StrongLifts 5x5 Advanced'!I26)/(1.0278-(0.0278*5)))/$C$27),0)*$C$27 -> 95 | I25: =ROUND(((H25*(1.0278-(0.0278*3)))/$C$27),0)*$C$27 -> 90 | J25: =ROUND(((I25*0.95)/$C$27),0)*$C$27 -> 85
B27: Weight rounded to | C27: 2.5 | D27: (must be in pounds)
B31: STRONGLIFTS BVBA © 2011and beyond. All Rights Reserved.
B32: Spreadsheet created by StrongLifts Member Greg
B34: http://stronglifts.com/

Sheet 2. StrongLifts 5x5 Advanced
B7: StrongLifts 5x5 Advanced Training Program
B8: More info: http://stronglifts.com/stronglifts-advanced/
B11: Day | C11: Exercise | E11: Reps | F11: W1 | G11: W2 | H11: W3 | I11: W4 | K11: Reps | L11: W5 – Deload | N11: Reps | O11: W6 | P11: W7 | Q11: W8 | R11: W9
B12: Monday | C12: Squat | E12: 5 | F12: =ROUND(((H12*0.8)/'1. Start Here'!$C$27),0)*'1. Start Here'!$C$27 -> 117.5 | G12: =ROUND(((F12+((H12-F12)/2))/'1. Start Here'!$C$27),0)*'1. Start Here'!$C$27 -> 132.5 | H12: ='1. Start Here'!G21 -> 147.5 | I12: =ROUND(((H12*1.05)/'1. Start Here'!$C$27),0)*'1. Start Here'!$C$27 -> 155 | K12: 3 | L12: =I12 -> 155 | N12: 3 | O12: =ROUND(((L12+((Q12-L12)/3))/'1. Start Here'!$C$27),0)*'1. Start Here'!$C$27 -> 160 | P12: =ROUND(((L12+(((Q12-L12)/3)*2))/'1. Start Here'!$C$27),0)*'1. Start Here'!$C$27 -> 162.5 | Q12: ='1. Start Here'!J21 -> 167.5 | R12: =ROUND(((Q12*1.025)/'1. Start Here'!$C$27),0)*'1. Start Here'!$C$27 -> 172.5
E13: 5 | F13: =F12 -> 117.5 | G13: =G12 -> 132.5 | H13: =H12 -> 147.5 | I13: =I12 -> 155 | K13: 3 | L13: =L12 -> 155 | N13: 3 | O13: =O12 -> 160 | P13: =P12 -> 162.5 | Q13: =Q12 -> 167.5 | R13: =R12 -> 172.5
E14: 5 | F14: =F12 -> 117.5 | G14: =G12 -> 132.5 | H14: =H12 -> 147.5 | I14: =I12 -> 155 | K14: 3 | L14: =L12 -> 155 | N14: 3 | O14: =O12 -> 160 | P14: =P12 -> 162.5 | Q14: =Q12 -> 167.5 | R14: =R12 -> 172.5
E15: 5 | F15: =F12 -> 117.5 | G15: =G12 -> 132.5 | H15: =H12 -> 147.5 | I15: =I12 -> 155
E16: 5 | F16: =F12 -> 117.5 | G16: =G12 -> 132.5 | H16: =H12 -> 147.5 | I16: =I12 -> 155
C17: Bench Press | E17: 5 | F17: =ROUND(((F21*0.76)/'1. Start Here'!$C$27),0)*'1. Start Here'!$C$27 -> 55 | G17: =ROUND(((G21*0.76)/'1. Start Here'!$C$27),0)*'1. Start Here'!$C$27 -> 62.5 | H17: =ROUND(((H21*0.76)/'1. Start Here'!$C$27),0)*'1. Start Here'!$C$27 -> 67.5 | I17: =ROUND(((I21*0.76)/'1. Start Here'!$C$27),0)*'1. Start Here'!$C$27 -> 72.5 | K17: 3 | L17: =ROUND(((L19*0.8)/'1. Start Here'!$C$27),0)*'1. Start Here'!$C$27 -> 75 | N17: 3 | O17: =ROUND(((O19*0.8)/'1. Start Here'!$C$27),0)*'1. Start Here'!$C$27 -> 77.5 | P17: =ROUND(((P19*0.8)/'1. Start Here'!$C$27),0)*'1. Start Here'!$C$27 -> 80 | Q17: =ROUND(((Q19*0.8)/'1. Start Here'!$C$27),0)*'1. Start Here'!$C$27 -> 82.5 | R17: =ROUND(((R19*0.8)/'1. Start Here'!$C$27),0)*'1. Start Here'!$C$27 -> 85
E18: 5 | F18: =ROUND(((F21*0.82)/'1. Start Here'!$C$27),0)*'1. Start Here'!$C$27 -> 60 | G18: =ROUND(((G21*0.82)/'1. Start Here'!$C$27),0)*'1. Start Here'!$C$27 -> 67.5 | H18: =ROUND(((H21*0.82)/'1. Start Here'!$C$27),0)*'1. Start Here'!$C$27 -> 75 | I18: =ROUND(((I21*0.82)/'1. Start Here'!$C$27),0)*'1. Start Here'!$C$27 -> 77.5 | K18: 3 | L18: =ROUND(((L19*0.9)/'1. Start Here'!$C$27),0)*'1. Start Here'!$C$27 -> 85 | N18: 3 | O18: =ROUND(((O19*0.9)/'1. Start Here'!$C$27),0)*'1. Start Here'!$C$27 -> 87.5 | P18: =ROUND(((P19*0.9)/'1. Start Here'!$C$27),0)*'1. Start Here'!$C$27 -> 90 | Q18: =ROUND(((Q19*0.9)/'1. Start Here'!$C$27),0)*'1. Start Here'!$C$27 -> 92.5 | R18: =ROUND(((R19*0.9)/'1. Start Here'!$C$27),0)*'1. Start Here'!$C$27 -> 95
E19: 5 | F19: =ROUND(((F21*0.88)/'1. Start Here'!$C$27),0)*'1. Start Here'!$C$27 -> 65 | G19: =ROUND(((G21*0.88)/'1. Start Here'!$C$27),0)*'1. Start Here'!$C$27 -> 72.5 | H19: =ROUND(((H21*0.88)/'1. Start Here'!$C$27),0)*'1. Start Here'!$C$27 -> 80 | I19: =ROUND(((I21*0.88)/'1. Start Here'!$C$27),0)*'1. Start Here'!$C$27 -> 82.5 | K19: 3 | L19: =I21 -> 95 | N19: 3 | O19: =ROUND(((L19+((Q19-L19)/3))/'1. Start Here'!$C$27),0)*'1. Start Here'!$C$27 -> 97.5 | P19: =ROUND(((L19+(((Q19-L19)/3)*2))/'1. Start Here'!$C$27),0)*'1. Start Here'!$C$27 -> 100 | Q19: ='1. Start Here'!I22 -> 102.5 | R19: =ROUND(((Q19*1.025)/'1. Start Here'!$C$27),0)*'1. Start Here'!$C$27 -> 105
E20: 5 | F20: =ROUND(((F21*0.94)/'1. Start Here'!$C$27),0)*'1. Start Here'!$C$27 -> 67.5 | G20: =ROUND(((G21*0.94)/'1. Start Here'!$C$27),0)*'1. Start Here'!$C$27 -> 77.5 | H20: =ROUND(((H21*0.94)/'1. Start Here'!$C$27),0)*'1. Start Here'!$C$27 -> 85 | I20: =ROUND(((I21*0.94)/'1. Start Here'!$C$27),0)*'1. Start Here'!$C$27 -> 90
E21: 5 | F21: =ROUND(((H21*0.8)/'1. Start Here'!$C$27),0)*'1. Start Here'!$C$27 -> 72.5 | G21: =ROUND(((F21+((H21-F21)/2))/'1. Start Here'!$C$27),0)*'1. Start Here'!$C$27 -> 82.5 | H21: ='1. Start Here'!F22 -> 90 | I21: =ROUND(((H21*1.05)/'1. Start Here'!$C$27),0)*'1. Start Here'!$C$27 -> 95
C22: Barbell Row | E22: 5 | F22: =ROUND(((F26*0.76)/'1. Start Here'!$C$27),0)*'1. Start Here'!$C$27 -> 50 | G22: =ROUND(((G26*0.76)/'1. Start Here'!$C$27),0)*'1. Start Here'!$C$27 -> 55 | H22: =ROUND(((H26*0.76)/'1. Start Here'!$C$27),0)*'1. Start Here'!$C$27 -> 60 | I22: =ROUND(((I26*0.76)/'1. Start Here'!$C$27),0)*'1. Start Here'!$C$27 -> 65 | K22: 3 | L22: =ROUND(((L24*0.8)/'1. Start Here'!$C$27),0)*'1. Start Here'!$C$27 -> 67.5 | N22: 3 | O22: =ROUND(((O24*0.8)/'1. Start Here'!$C$27),0)*'1. Start Here'!$C$27 -> 70 | P22: =ROUND(((P24*0.8)/'1. Start Here'!$C$27),0)*'1. Start Here'!$C$27 -> 70 | Q22: =ROUND(((Q24*0.8)/'1. Start Here'!$C$27),0)*'1. Start Here'!$C$27 -> 72.5 | R22: =ROUND(((R24*0.8)/'1. Start Here'!$C$27),0)*'1. Start Here'!$C$27 -> 75
E23: 5 | F23: =ROUND(((F26*0.82)/'1. Start Here'!$C$27),0)*'1. Start Here'!$C$27 -> 52.5 | G23: =ROUND(((G26*0.82)/'1. Start Here'!$C$27),0)*'1. Start Here'!$C$27 -> 60 | H23: =ROUND(((H26*0.82)/'1. Start Here'!$C$27),0)*'1. Start Here'!$C$27 -> 65 | I23: =ROUND(((I26*0.82)/'1. Start Here'!$C$27),0)*'1. Start Here'!$C$27 -> 70 | K23: 3 | L23: =ROUND(((L24*0.9)/'1. Start Here'!$C$27),0)*'1. Start Here'!$C$27 -> 77.5 | N23: 3 | O23: =ROUND(((O24*0.9)/'1. Start Here'!$C$27),0)*'1. Start Here'!$C$27 -> 80 | P23: =ROUND(((P24*0.9)/'1. Start Here'!$C$27),0)*'1. Start Here'!$C$27 -> 80 | Q23: =ROUND(((Q24*0.9)/'1. Start Here'!$C$27),0)*'1. Start Here'!$C$27 -> 80 | R23: =ROUND(((R24*0.9)/'1. Start Here'!$C$27),0)*'1. Start Here'!$C$27 -> 82.5
E24: 5 | F24: =ROUND(((F26*0.88)/'1. Start Here'!$C$27),0)*'1. Start Here'!$C$27 -> 57.5 | G24: =ROUND(((G26*0.88)/'1. Start Here'!$C$27),0)*'1. Start Here'!$C$27 -> 65 | H24: =ROUND(((H26*0.88)/'1. Start Here'!$C$27),0)*'1. Start Here'!$C$27 -> 70 | I24: =ROUND(((I26*0.88)/'1. Start Here'!$C$27),0)*'1. Start Here'!$C$27 -> 75 | K24: 3 | L24: =I26 -> 85 | N24: 3 | O24: =ROUND(((L24+((Q24-L24)/3))/'1. Start Here'!$C$27),0)*'1. Start Here'!$C$27 -> 87.5 | P24: =ROUND(((L24+(((Q24-L24)/3)*2))/'1. Start Here'!$C$27),0)*'1. Start Here'!$C$27 -> 87.5 | Q24: ='1. Start Here'!I25 -> 90 | R24: =ROUND(((Q24*1.025)/'1. Start Here'!$C$27),0)*'1. Start Here'!$C$27 -> 92.5
E25: 5 | F25: =ROUND(((F26*0.94)/'1. Start Here'!$C$27),0)*'1. Start Here'!$C$27 -> 60 | G25: =ROUND(((G26*0.94)/'1. Start Here'!$C$27),0)*'1. Start Here'!$C$27 -> 67.5 | H25: =ROUND(((H26*0.94)/'1. Start Here'!$C$27),0)*'1. Start Here'!$C$27 -> 75 | I25: =ROUND(((I26*0.94)/'1. Start Here'!$C$27),0)*'1. Start Here'!$C$27 -> 80
E26: 5 | F26: =ROUND(((H26*0.8)/'1. Start Here'!$C$27),0)*'1. Start Here'!$C$27 -> 65 | G26: =ROUND(((F26+((H26-F26)/2))/'1. Start Here'!$C$27),0)*'1. Start Here'!$C$27 -> 72.5 | H26: ='1. Start Here'!F25 -> 80 | I26: =ROUND(((H26*1.05)/'1. Start Here'!$C$27),0)*'1. Start Here'!$C$27 -> 85
B27: Wednesday | C27: Squat | E27: 5 | F27: =ROUND(((F12*0.9)/'1. Start Here'!$C$27),0)*'1. Start Here'!$C$27 -> 105 | G27: =ROUND(((G12*0.88)/'1. Start Here'!$C$27),0)*'1. Start Here'!$C$27 -> 117.5 | H27: =ROUND(((H12*0.86)/'1. Start Here'!$C$27),0)*'1. Start Here'!$C$27 -> 127.5 | I27: =ROUND(((I12*0.85)/'1. Start Here'!$C$27),0)*'1. Start Here'!$C$27 -> 132.5
E28: 5 | F28: =F27 -> 105 | G28: =G27 -> 117.5 | H28: =H27 -> 127.5 | I28: =I27 -> 132.5 | L28: NO Squats on Wednesday from week 5 to 9
E29: 5 | F29: =F27 -> 105 | G29: =G27 -> 117.5 | H29: =H27 -> 127.5 | I29: =I27 -> 132.5 | L29: Start with Deadlifts instead, then do Overhead Press
E30: 5 | F30: =F27 -> 105 | G30: =G27 -> 117.5 | H30: =H27 -> 127.5 | I30: =I27 -> 132.5 | L30: I recommend you do 3x3 Weighted Pull-ups after Press
E31: 5 | F31: =F27 -> 105 | G31: =G27 -> 117.5 | H31: =H27 -> 127.5 | I31: =I27 -> 132.5
C32: Overhead Press | E32: 5 | F32: =ROUND(((H32*0.8)/'1. Start Here'!$C$27),0)*'1. Start Here'!$C$27 -> 45 | G32: =ROUND(((F32+((H32-F32)/2))/'1. Start Here'!$C$27),0)*'1. Start Here'!$C$27 -> 52.5 | H32: ='1. Start Here'!G24 -> 57.5 | I32: =ROUND(((H32*1.05)/'1. Start Here'!$C$27),0)*'1. Start Here'!$C$27 -> 60 | K32: 3 | L32: =I36 -> 60 | N32: 3 | O32: =ROUND(((L32+((Q32-L32)/3))/'1. Start Here'!$C$27),0)*'1. Start Here'!$C$27 -> 62.5 | P32: =ROUND(((L32+(((Q32-L32)/3)*2))/'1. Start Here'!$C$27),0)*'1. Start Here'!$C$27 -> 62.5 | Q32: ='1. Start Here'!J24 -> 65 | R32: =ROUND(((Q32*1.025)/'1. Start Here'!$C$27),0)*'1. Start Here'!$C$27 -> 67.5
E33: 5 | F33: =F32 -> 45 | G33: =G32 -> 52.5 | H33: ='1. Start Here'!G24 -> 57.5 | I33: =I32 -> 60 | K33: 3 | L33: =L32 -> 60 | N33: 3 | O33: =ROUND(((L33+((Q33-L33)/3))/'1. Start Here'!$C$27),0)*'1. Start Here'!$C$27 -> 62.5 | P33: =ROUND(((L33+(((Q33-L33)/3)*2))/'1. Start Here'!$C$27),0)*'1. Start Here'!$C$27 -> 62.5 | Q33: =Q32 -> 65 | R33: =R32 -> 67.5
E34: 5 | F34: =F32 -> 45 | G34: =G32 -> 52.5 | H34: ='1. Start Here'!G24 -> 57.5 | I34: =I32 -> 60 | K34: 3 | L34: =L32 -> 60 | N34: 3 | O34: =ROUND(((L34+((Q34-L34)/3))/'1. Start Here'!$C$27),0)*'1. Start Here'!$C$27 -> 62.5 | P34: =ROUND(((L34+(((Q34-L34)/3)*2))/'1. Start Here'!$C$27),0)*'1. Start Here'!$C$27 -> 62.5 | Q34: =Q32 -> 65 | R34: =R32 -> 67.5
E35: 5 | F35: =F32 -> 45 | G35: =G32 -> 52.5 | H35: ='1. Start Here'!G24 -> 57.5 | I35: =I32 -> 60
E36: 5 | F36: =F32 -> 45 | G36: =G32 -> 52.5 | H36: ='1. Start Here'!G24 -> 57.5 | I36: =I32 -> 60
C37: Deadlift | E37: 5 | F37: =ROUND(((H37*0.8)/'1. Start Here'!$C$27),0)*'1. Start Here'!$C$27 -> 132.5 | G37: =ROUND(((F37+((H37-F37)/2))/'1. Start Here'!$C$27),0)*'1. Start Here'!$C$27 -> 150 | H37: ='1. Start Here'!G23 -> 165 | I37: =ROUND(((H37*1.05)/'1. Start Here'!$C$27),0)*'1. Start Here'!$C$27 -> 172.5 | K37: 3 | L37: =I37 -> 172.5 | N37: 3 | O37: =ROUND(((L37+((Q37-L37)/3))/'1. Start Here'!$C$27),0)*'1. Start Here'!$C$27 -> 177.5 | P37: =ROUND(((L37+(((Q37-L37)/3)*2))/'1. Start Here'!$C$27),0)*'1. Start Here'!$C$27 -> 180 | Q37: ='1. Start Here'!J23 -> 185 | R37: =ROUND(((Q37*1.025)/'1. Start Here'!$C$27),0)*'1. Start Here'!$C$27 -> 190
E38: 5 | F38: =F37 -> 132.5 | G38: =G37 -> 150 | H38: =H37 -> 165 | I38: =I37 -> 172.5 | K38: 3 | L38: =L37 -> 172.5 | N38: 3 | O38: =O37 -> 177.5 | P38: =P37 -> 180 | Q38: ='1. Start Here'!J23 -> 185 | R38: =R37 -> 190
E39: 5 | F39: =F37 -> 132.5 | G39: =G37 -> 150 | H39: =H37 -> 165 | I39: =I37 -> 172.5 | K39: 3 | L39: =L37 -> 172.5 | N39: 3 | O39: =O37 -> 177.5 | P39: =P37 -> 180 | Q39: ='1. Start Here'!J23 -> 185 | R39: =R37 -> 190
B40: Friday | C40: Squat | E40: 5 | F40: =ROUND(((F44*0.76)/'1. Start Here'!$C$27),0)*'1. Start Here'!$C$27 -> 97.5 | G40: =ROUND(((G44*0.76)/'1. Start Here'!$C$27),0)*'1. Start Here'!$C$27 -> 110 | H40: =ROUND(((H44*0.76)/'1. Start Here'!$C$27),0)*'1. Start Here'!$C$27 -> 122.5 | I40: =ROUND(((I44*0.76)/'1. Start Here'!$C$27),0)*'1. Start Here'!$C$27 -> 127.5 | K40: 3 | L40: =ROUND(((L42*0.8)/'1. Start Here'!$C$27),0)*'1. Start Here'!$C$27 -> 135 | N40: 3 | O40: =ROUND(((O42*0.8)/'1. Start Here'!$C$27),0)*'1. Start Here'!$C$27 -> 135 | P40: =ROUND(((P42*0.8)/'1. Start Here'!$C$27),0)*'1. Start Here'!$C$27 -> 140 | Q40: =ROUND(((Q42*0.8)/'1. Start Here'!$C$27),0)*'1. Start Here'!$C$27 -> 142.5 | R40: =ROUND(((R42*0.8)/'1. Start Here'!$C$27),0)*'1. Start Here'!$C$27 -> 145
E41: 5 | F41: =ROUND(((F44*0.82)/'1. Start Here'!$C$27),0)*'1. Start Here'!$C$27 -> 105 | G41: =ROUND(((G44*0.82)/'1. Start Here'!$C$27),0)*'1. Start Here'!$C$27 -> 120 | H41: =ROUND(((H44*0.82)/'1. Start Here'!$C$27),0)*'1. Start Here'!$C$27 -> 130 | I41: =ROUND(((I44*0.82)/'1. Start Here'!$C$27),0)*'1. Start Here'!$C$27 -> 137.5 | K41: 3 | L41: =ROUND(((L42*0.9)/'1. Start Here'!$C$27),0)*'1. Start Here'!$C$27 -> 150 | N41: 3 | O41: =ROUND(((O42*0.9)/'1. Start Here'!$C$27),0)*'1. Start Here'!$C$27 -> 152.5 | P41: =ROUND(((P42*0.9)/'1. Start Here'!$C$27),0)*'1. Start Here'!$C$27 -> 157.5 | Q41: =ROUND(((Q42*0.9)/'1. Start Here'!$C$27),0)*'1. Start Here'!$C$27 -> 160 | R41: =ROUND(((R42*0.9)/'1. Start Here'!$C$27),0)*'1. Start Here'!$C$27 -> 165
E42: 5 | F42: =ROUND(((F44*0.88)/'1. Start Here'!$C$27),0)*'1. Start Here'!$C$27 -> 112.5 | G42: =ROUND(((G44*0.88)/'1. Start Here'!$C$27),0)*'1. Start Here'!$C$27 -> 127.5 | H42: =ROUND(((H44*0.88)/'1. Start Here'!$C$27),0)*'1. Start Here'!$C$27 -> 140 | I42: =ROUND(((I44*0.88)/'1. Start Here'!$C$27),0)*'1. Start Here'!$C$27 -> 147.5 | K42: 3 | L42: =I44 -> 167.5 | N42: 3 | O42: =ROUND(((L42+((Q42-L42)/3))/'1. Start Here'!$C$27),0)*'1. Start Here'!$C$27 -> 170 | P42: =ROUND(((L42+(((Q42-L42)/3)*2))/'1. Start Here'!$C$27),0)*'1. Start Here'!$C$27 -> 175 | Q42: ='1. Start Here'!I21 -> 177.5 | R42: =ROUND(((Q42*1.025)/'1. Start Here'!$C$27),0)*'1. Start Here'!$C$27 -> 182.5
E43: 5 | F43: =ROUND(((F44*0.94)/'1. Start Here'!$C$27),0)*'1. Start Here'!$C$27 -> 120 | G43: =ROUND(((G44*0.94)/'1. Start Here'!$C$27),0)*'1. Start Here'!$C$27 -> 137.5 | H43: =ROUND(((H44*0.94)/'1. Start Here'!$C$27),0)*'1. Start Here'!$C$27 -> 150 | I43: =ROUND(((I44*0.94)/'1. Start Here'!$C$27),0)*'1. Start Here'!$C$27 -> 157.5
E44: 5 | F44: =ROUND(((H44*0.8)/'1. Start Here'!$C$27),0)*'1. Start Here'!$C$27 -> 127.5 | G44: =ROUND(((F44+((H44-F44)/2))/'1. Start Here'!$C$27),0)*'1. Start Here'!$C$27 -> 145 | H44: ='1. Start Here'!F21 -> 160 | I44: =ROUND(((H44*1.05)/'1. Start Here'!$C$27),0)*'1. Start Here'!$C$27 -> 167.5
C45: Bench Press | E45: 5 | F45: =ROUND(((H45*0.8)/'1. Start Here'!$C$27),0)*'1. Start Here'!$C$27 -> 65 | G45: =ROUND(((F45+((H45-F45)/2))/'1. Start Here'!$C$27),0)*'1. Start Here'!$C$27 -> 75 | H45: ='1. Start Here'!G22 -> 82.5 | I45: =ROUND(((H45*1.05)/'1. Start Here'!$C$27),0)*'1. Start Here'!$C$27 -> 87.5 | K45: 3 | L45: =I49 -> 87.5 | N45: 3 | O45: =ROUND(((L45+((Q45-L45)/3))/'1. Start Here'!$C$27),0)*'1. Start Here'!$C$27 -> 90 | P45: =ROUND(((L45+(((Q45-L45)/3)*2))/'1. Start Here'!$C$27),0)*'1. Start Here'!$C$27 -> 95 | Q45: ='1. Start Here'!J22 -> 97.5 | R45: =ROUND(((Q45*1.025)/'1. Start Here'!$C$27),0)*'1. Start Here'!$C$27 -> 100
E46: 5 | F46: =F45 -> 65 | G46: =G45 -> 75 | H46: =H45 -> 82.5 | I46: =I45 -> 87.5 | K46: 3 | L46: =L45 -> 87.5 | N46: 3 | O46: =O45 -> 90 | P46: =P45 -> 95 | Q46: =Q45 -> 97.5 | R46: =R45 -> 100
E47: 5 | F47: =F45 -> 65 | G47: =G45 -> 75 | H47: =H45 -> 82.5 | I47: =I45 -> 87.5 | K47: 3 | L47: =L45 -> 87.5 | N47: 3 | O47: =O45 -> 90 | P47: =P45 -> 95 | Q47: =Q45 -> 97.5 | R47: =R45 -> 100
E48: 5 | F48: =F45 -> 65 | G48: =G45 -> 75 | H48: =H45 -> 82.5 | I48: =I45 -> 87.5
E49: 5 | F49: =F45 -> 65 | G49: =G45 -> 75 | H49: =H45 -> 82.5 | I49: =I45 -> 87.5
C50: Barbell Row | E50: 5 | F50: =ROUND(((H50*0.8)/'1. Start Here'!$C$27),0)*'1. Start Here'!$C$27 -> 60 | G50: =ROUND(((F50+((H50-F50)/2))/'1. Start Here'!$C$27),0)*'1. Start Here'!$C$27 -> 67.5 | H50: ='1. Start Here'!G25 -> 75 | I50: =ROUND(((H50*1.05)/'1. Start Here'!$C$27),0)*'1. Start Here'!$C$27 -> 80 | K50: 3 | L50: =I54 -> 80 | N50: 3 | O50: =ROUND(((L50+((Q50-L50)/3))/'1. Start Here'!$C$27),0)*'1. Start Here'!$C$27 -> 82.5 | P50: =ROUND(((L50+(((Q50-L50)/3)*2))/'1. Start Here'!$C$27),0)*'1. Start Here'!$C$27 -> 87.5 | Q50: ='1. Start Here'!I25 -> 90 | R50: =ROUND(((Q50*1.025)/'1. Start Here'!$C$27),0)*'1. Start Here'!$C$27 -> 92.5
E51: 5 | F51: =F50 -> 60 | G51: =G50 -> 67.5 | H51: =H50 -> 75 | I51: =I50 -> 80 | K51: 3 | L51: =L50 -> 80 | N51: 3 | O51: =O50 -> 82.5 | P51: =P50 -> 87.5 | Q51: =Q50 -> 90 | R51: =R50 -> 92.5
E52: 5 | F52: =F50 -> 60 | G52: =G50 -> 67.5 | H52: =H50 -> 75 | I52: =I50 -> 80 | K52: 3 | L52: =L50 -> 80 | N52: 3 | O52: =O50 -> 82.5 | P52: =P50 -> 87.5 | Q52: =Q50 -> 90 | R52: =R50 -> 92.5
E53: 5 | F53: =F50 -> 60 | G53: =G50 -> 67.5 | H53: =H50 -> 75 | I53: =I50 -> 80
E54: 5 | F54: =F50 -> 60 | G54: =G50 -> 67.5 | H54: =H50 -> 75 | I54: =I50 -> 80
B57: STRONGLIFTS BVBA © 2011and beyond. All Rights Reserved.
B58: Spreadsheet created by StrongLifts Member Greg
B60: http://stronglifts.com/
