Workbook
Name NamedRange1: Lift!$A$1:$AK$43

Sheet Instructions
A2: INSTRUCTIONS: - Input your 1RM for the various lifts on the "Setup" tab. - Input rounding on "Setup" tab. Use 5 for lbs and 2.5 for kgs. - The "rep target" value refers to how many reps must be achieved in a set to add weight to your working sets. You can probably leave this as-is, but you can adjust it if you'd like. - The "increment" value refers to how much weight is added to your working sets after each session when the rep target is achieved. Again, you probably don't need to adjust this at first but it's there if you need it. - You're now ready to train. - Input the reps achieved in each green cell. These are your working sets. Please note that you have fewer working sets for deadlifts.

Sheet Starting Weight Calculator
A1: You can use this tab to help you determine your starting weight for the main lifts. Do this for EACH main lift. Don't use this for accessories - start those at a weight that is very easy. You'll add weight quickly.
A2: edit these cells | E2: Important: Do Not Edit These Values Unless You Want to Make Your Own Rep % Curve
E3: =HYPERLINK("http://www.exrx.net/Calculators/OneRepMax.html","Sourced from ExRx") -> Sourced from ExRx
A4: Inputs | E4: Reps | F4: Brzycki | G4: Baechle | H4: dos Remedios | I4: Average
A5: Weight Lifted | B5: 120 | E5: 1 | F5: 100 | G5: 100 | H5: 100 | I5: =sum(F5:H5)/3 -> 100
A6: Reps | B6: 1 | C6: Must = 1 through 10 | E6: 2 | F6: 95 | G6: 95 | H6: 92 | I6: =sum(F6:H6)/3 -> 94
A7: Rounding | B7: 5 | C7: 5 = lb, 2.5 = kg | E7: 3 | F7: 90 | G7: 93 | H7: 90 | I7: =sum(F7:H7)/3 -> 91
E8: 4 | F8: 88 | G8: 90 | H8: 87 | I8: =sum(F8:H8)/3 -> 88.333333
A9: Estimated Starting Weight | B9: =mround(B13*0.7,$B$7) -> 75 | C9: <-- Use this weight on "Setup" tab. | E9: 5 | F9: 86 | G9: 87 | H9: 85 | I9: =sum(F9:H9)/3 -> 86
E10: 6 | F10: 83 | G10: 85 | H10: 82 | I10: =sum(F10:H10)/3 -> 83.333333
A11: You don't need to know your 1RM or TM, they are provided for your own information. | E11: 7 | F11: 80 | G11: 83 | I11: =sum(F11:H11)/2 -> 81.5
A12: Estimated 1RM | B12: =mround(B5/F17,$B$7) -> 120 | E12: 8 | F12: 78 | G12: 80 | H12: 75 | I12: =sum(F12:H12)/3 -> 77.666667
A13: Estimated TM | B13: =mround(B12*0.9,$B$7) -> 110 | E13: 9 | F13: 76 | G13: 77 | I13: =sum(F13:H13)/2 -> 76.5
E14: 10 | F14: 71.888889 | G14: 74.277778 | H14: 77.933333 | I14: =sum(F14:H14)/3 -> 74.7
E15: 12 | F15: 69.022222 | G15: 71.577778 | H15: 74.67619 | I15: =sum(F15:H15)/3 -> 71.75873
E17: Multiplier | F17: =vlookup(B6,$E$4:$I$14,5,false)/100 -> 1

Sheet Setup
C4: Settings
C5: Units | D5: lb
C6: Warm-up Rounding | D6: 2.5
C8: Starting weight = weight you can get for 8 to 10 reps OR use "starting weight calculator"
C9: Main Lifts | D9: Starting Weight | E9: Increment | F9: Rep Target | G9: Rounding
C10: Bench | D10: 120 | E10: 2.5 | F10: 5 | G10: 2.5
C11: OHP | D11: 60 | E11: 2.5 | F11: 5 | G11: 2.5
C12: Squat | D12: 135 | E12: 2.5 | F12: 5 | G12: 2.5
C13: Deadlift | D13: 150 | E13: 5 | F13: 5 | G13: 2.5
C15: =CONCATENATE(C10,"/",C11," Antagonist") -> Bench/OHP Antagonist
C16: Row | D16: 100 | E16: 2.5 | F16: 5 | G16: 2.5
C17: Chin-up | D17: 10 | E17: 2.5 | F17: 5 | G17: 2.5
C19: =CONCATENATE(C10,"/",C11," Accessory") -> Bench/OHP Accessory
C20: Tricep Ext. | D20: 25 | E20: 2.5 | F20: 12 | G20: 2.5
C21: Bicep Curl | D21: 25 | E21: 2.5 | F21: 12 | G21: 2.5
C23: =CONCATENATE(C12,"/",C13," Accessory") -> Squat/Deadlift Accessory
C24: Ab Rollout | F24: 12 | G24: 2.5
C25: Shrug | D25: 100 | E25: 10 | F25: 12 | G25: 2.5

Sheet Lift
F1: Week 1 | I1: Week 2 | L1: Week 3 | O1: Week 4 | R1: Week 5 | U1: Week 6 | X1: Week 7 | AA1: Week 8
F2: Day 1 | G2: Day 2 | H2: Day 3 | I2: Day 1 | J2: Day 2 | K2: Day 3 | L2: Day 1 | M2: Day 2 | N2: Day 3 | O2: Day 1 | P2: Day 2 | Q2: Day 3 | R2: Day 1 | S2: Day 2 | T2: Day 3 | U2: Day 1 | V2: Day 2 | W2: Day 3 | X2: Day 1 | Y2: Day 2 | Z2: Day 3 | AA2: Day 1 | AB2: Day 2 | AC2: Day 3
B3: GreySkull LP [β6] | F3: 1.1 | G3: 1.2 | H3: 1.3 | I3: 2.1 | J3: 2.2 | K3: 2.3 | L3: 3.1 | M3: 3.2 | N3: 3.3 | O3: 4.1 | P3: 4.2 | Q3: 4.3 | R3: 5.1 | S3: 5.2 | T3: 5.3 | U3: 6.1 | V3: 6.2 | W3: 6.3 | X3: 7.1 | Y3: 7.2 | Z3: 7.3 | AA3: 8.1 | AB3: 8.2 | AC3: 8.3
B5: =CONCATENATE(Setup!C10,"/",Setup!C11) -> Bench/OHP | F5: =LEFT(Setup!$C$10,5) -> Bench | G5: =LEFT(Setup!$C$11,5) -> OHP | H5: =LEFT(Setup!$C$10,5) -> Bench | I5: =LEFT(Setup!$C$11,5) -> OHP | J5: =LEFT(Setup!$C$10,5) -> Bench | K5: =LEFT(Setup!$C$11,5) -> OHP | L5: =LEFT(Setup!$C$10,5) -> Bench | M5: =LEFT(Setup!$C$11,5) -> OHP | N5: =LEFT(Setup!$C$10,5) -> Bench | O5: =LEFT(Setup!$C$11,5) -> OHP | P5: =LEFT(Setup!$C$10,5) -> Bench | Q5: =LEFT(Setup!$C$11,5) -> OHP | R5: =LEFT(Setup!$C$10,5) -> Bench | S5: =LEFT(Setup!$C$11,5) -> OHP | T5: =LEFT(Setup!$C$10,5) -> Bench | U5: =LEFT(Setup!$C$11,5) -> OHP | V5: =LEFT(Setup!$C$10,5) -> Bench | W5: =LEFT(Setup!$C$11,5) -> OHP | X5: =LEFT(Setup!$C$10,5) -> Bench | Y5: =LEFT(Setup!$C$11,5) -> OHP | Z5: =LEFT(Setup!$C$10,5) -> Bench | AA5: =LEFT(Setup!$C$11,5) -> OHP | AB5: =LEFT(Setup!$C$10,5) -> Bench | AC5: =LEFT(Setup!$C$11,5) -> OHP
D6: 5 | F6: =IF(Setup!$D$5="kg", 20, 45) -> 45 | G6: =IF(Setup!$D$5="kg", 20, 45) -> 45 | H6: =IF(Setup!$D$5="kg", 20, 45) -> 45 | I6: =IF(Setup!$D$5="kg", 20, 45) -> 45 | J6: =IF(Setup!$D$5="kg", 20, 45) -> 45 | K6: =IF(Setup!$D$5="kg", 20, 45) -> 45 | L6: =IF(Setup!$D$5="kg", 20, 45) -> 45 | M6: =IF(Setup!$D$5="kg", 20, 45) -> 45 | ... AC6: =IF(Setup!$D$5="kg", 20, 45) -> 45
B7: Warm-Up | D7: 4 | F7: =MAX(FLOOR(PRODUCT(F10,0.55),Setup!$D$6),F6) -> 65 | G7: =MAX(FLOOR(PRODUCT(G10,0.55),Setup!$D$6),G6) -> 45 | H7: =MAX(FLOOR(PRODUCT(H10,0.55),Setup!$D$6),H6) -> 65 | I7: =MAX(FLOOR(PRODUCT(I10,0.55),Setup!$D$6),I6) -> 45 | J7: =MAX(FLOOR(PRODUCT(J10,0.55),Setup!$D$6),J6) -> 67.5 | K7: =MAX(FLOOR(PRODUCT(K10,0.55),Setup!$D$6),K6) -> 45 | L7: =MAX(FLOOR(PRODUCT(L10,0.55),Setup!$D$6),L6) -> 70 | M7: =MAX(FLOOR(PRODUCT(M10,0.55),Setup!$D$6),M6) -> 45 | ... AC7: =MAX(FLOOR(PRODUCT(AC10,0.55),Setup!$D$6),AC6) -> 47.5
D8: 3 | F8: =MAX(FLOOR(PRODUCT(F10,0.7),Setup!$D$6),F6) -> 82.5 | G8: =MAX(FLOOR(PRODUCT(G10,0.7),Setup!$D$6),G6) -> 45 | H8: =MAX(FLOOR(PRODUCT(H10,0.7),Setup!$D$6),H6) -> 85 | I8: =MAX(FLOOR(PRODUCT(I10,0.7),Setup!$D$6),I6) -> 45 | J8: =MAX(FLOOR(PRODUCT(J10,0.7),Setup!$D$6),J6) -> 87.5 | K8: =MAX(FLOOR(PRODUCT(K10,0.7),Setup!$D$6),K6) -> 45 | L8: =MAX(FLOOR(PRODUCT(L10,0.7),Setup!$D$6),L6) -> 87.5 | M8: =MAX(FLOOR(PRODUCT(M10,0.7),Setup!$D$6),M6) -> 45 | ... AC8: =MAX(FLOOR(PRODUCT(AC10,0.7),Setup!$D$6),AC6) -> 60
D9: 2 | F9: =MAX(FLOOR(PRODUCT(F10,0.85),Setup!$D$6),F6) -> 100 | G9: =MAX(FLOOR(PRODUCT(G10,0.85),Setup!$D$6),G6) -> 50 | H9: =MAX(FLOOR(PRODUCT(H10,0.85),Setup!$D$6),H6) -> 102.5 | I9: =MAX(FLOOR(PRODUCT(I10,0.85),Setup!$D$6),I6) -> 52.5 | J9: =MAX(FLOOR(PRODUCT(J10,0.85),Setup!$D$6),J6) -> 105 | K9: =MAX(FLOOR(PRODUCT(K10,0.85),Setup!$D$6),K6) -> 55 | L9: =MAX(FLOOR(PRODUCT(L10,0.85),Setup!$D$6),L6) -> 107.5 | M9: =MAX(FLOOR(PRODUCT(M10,0.85),Setup!$D$6),M6) -> 55 | ... AC9: =MAX(FLOOR(PRODUCT(AC10,0.85),Setup!$D$6),AC6) -> 72.5
B10: Working Weight --> | F10: =Setup!D10 -> 120 | G10: =Setup!D11 -> 60 | H10: =MROUND(IF(F13=0,F10+Setup!$E$10,IF(F13<Setup!$F$10,F10*0.9,IF(F13<Setup!$F$10*2,F10+Setup!$E$10,F10+Setup!$E$10*2))),Setup!$G$10) -> 122.5 | I10: =MROUND(IF(G13=0,G10+Setup!$E$11,IF(G13<Setup!$F$11,G10*0.9,IF(G13<Setup!$F$11*2,G10+Setup!$E$11,G10+Setup!$E$11*2))),Setup!$G$11) -> 62.5 | J10: =MROUND(IF(H13=0,H10+Setup!$E$10,IF(H13<Setup!$F$10,H10*0.9,IF(H13<Setup!$F$10*2,H10+Setup!$E$10,H10+Setup!$E$10*2))),Setup!$G$10) -> 125 | K10: =MROUND(IF(I13=0,I10+Setup!$E$11,IF(I13<Setup!$F$11,I10*0.9,IF(I13<Setup!$F$11*2,I10+Setup!$E$11,I10+Setup!$E$11*2))),Setup!$G$11) -> 65 | L10: =MROUND(IF(J13=0,J10+Setup!$E$10,IF(J13<Setup!$F$10,J10*0.9,IF(J13<Setup!$F$10*2,J10+Setup!$E$10,J10+Setup!$E$10*2))),Setup!$G$10) -> 127.5 | M10: =MROUND(IF(K13=0,K10+Setup!$E$11,IF(K13<Setup!$F$11,K10*0.9,IF(K13<Setup!$F$11*2,K10+Setup!$E$11,K10+Setup!$E$11*2))),Setup!$G$11) -> 67.5 | N10: =MROUND(IF(L13=0,L10+Setup!$E$10,IF(L13<Setup!$F$10,L10*0.9,IF(L13<Setup!$F$10*2,L10+Setup!$E$10,L10+Setup!$E$10*2))),Setup!$G$10) -> 130 | O10: =MROUND(IF(M13=0,M10+Setup!$E$11,IF(M13<Setup!$F$11,M10*0.9,IF(M13<Setup!$F$11*2,M10+Setup!$E$11,M10+Setup!$E$11*2))),Setup!$G$11) -> 70 | P10: =MROUND(IF(N13=0,N10+Setup!$E$10,IF(N13<Setup!$F$10,N10*0.9,IF(N13<Setup!$F$10*2,N10+Setup!$E$10,N10+Setup!$E$10*2))),Setup!$G$10) -> 132.5 | Q10: =MROUND(IF(O13=0,O10+Setup!$E$11,IF(O13<Setup!$F$11,O10*0.9,IF(O13<Setup!$F$11*2,O10+Setup!$E$11,O10+Setup!$E$11*2))),Setup!$G$11) -> 72.5 | R10: =MROUND(IF(P13=0,P10+Setup!$E$10,IF(P13<Setup!$F$10,P10*0.9,IF(P13<Setup!$F$10*2,P10+Setup!$E$10,P10+Setup!$E$10*2))),Setup!$G$10) -> 135 | S10: =MROUND(IF(Q13=0,Q10+Setup!$E$11,IF(Q13<Setup!$F$11,Q10*0.9,IF(Q13<Setup!$F$11*2,Q10+Setup!$E$11,Q10+Setup!$E$11*2))),Setup!$G$11) -> 75 | T10: =MROUND(IF(R13=0,R10+Setup!$E$10,IF(R13<Setup!$F$10,R10*0.9,IF(R13<Setup!$F$10*2,R10+Setup!$E$10,R10+Setup!$E$10*2))),Setup!$G$10) -> 137.5 | U10: =MROUND(IF(S13=0,S10+Setup!$E$11,IF(S13<Setup!$F$11,S10*0.9,IF(S13<Setup!$F$11*2,S10+Setup!$E$11,S10+Setup!$E$11*2))),Setup!$G$11) -> 77.5 | V10: =MROUND(IF(T13=0,T10+Setup!$E$10,IF(T13<Setup!$F$10,T10*0.9,IF(T13<Setup!$F$10*2,T10+Setup!$E$10,T10+Setup!$E$10*2))),Setup!$G$10) -> 140 | W10: =MROUND(IF(U13=0,U10+Setup!$E$11,IF(U13<Setup!$F$11,U10*0.9,IF(U13<Setup!$F$11*2,U10+Setup!$E$11,U10+Setup!$E$11*2))),Setup!$G$11) -> 80 | X10: =MROUND(IF(V13=0,V10+Setup!$E$10,IF(V13<Setup!$F$10,V10*0.9,IF(V13<Setup!$F$10*2,V10+Setup!$E$10,V10+Setup!$E$10*2))),Setup!$G$10) -> 142.5 | Y10: =MROUND(IF(W13=0,W10+Setup!$E$11,IF(W13<Setup!$F$11,W10*0.9,IF(W13<Setup!$F$11*2,W10+Setup!$E$11,W10+Setup!$E$11*2))),Setup!$G$11) -> 82.5 | Z10: =MROUND(IF(X13=0,X10+Setup!$E$10,IF(X13<Setup!$F$10,X10*0.9,IF(X13<Setup!$F$10*2,X10+Setup!$E$10,X10+Setup!$E$10*2))),Setup!$G$10) -> 145 | AA10: =MROUND(IF(Y13=0,Y10+Setup!$E$11,IF(Y13<Setup!$F$11,Y10*0.9,IF(Y13<Setup!$F$11*2,Y10+Setup!$E$11,Y10+Setup!$E$11*2))),Setup!$G$11) -> 85 | AB10: =MROUND(IF(Z13=0,Z10+Setup!$E$10,IF(Z13<Setup!$F$10,Z10*0.9,IF(Z13<Setup!$F$10*2,Z10+Setup!$E$10,Z10+Setup!$E$10*2))),Setup!$G$10) -> 147.5 | AC10: =MROUND(IF(AA13=0,AA10+Setup!$E$11,IF(AA13<Setup!$F$11,AA10*0.9,IF(AA13<Setup!$F$11*2,AA10+Setup!$E$11,AA10+Setup!$E$11*2))),Setup!$G$11) -> 87.5
D11: =CONCATENATE(Setup!$F$10,"/",Setup!$F$11) -> 5/5 | F11: 5 | G11: 5
D12: =CONCATENATE(Setup!$F$10,"/",Setup!$F$11) -> 5/5 | F12: 5 | G12: 5
D13: =CONCATENATE(Setup!$F$10,"+/",Setup!$F$11,"+") -> 5+/5+ | F13: 6 | G13: 6
X14: 105 single
B15: =CONCATENATE(Setup!C16,"/",Setup!C17) -> Row/Chin-up | F15: =LEFT(Setup!$C$16,4) -> Row | G15: =LEFT(Setup!$C$17,4) -> Chin | H15: =LEFT(Setup!$C$16,4) -> Row | I15: =LEFT(Setup!$C$17,4) -> Chin | J15: =LEFT(Setup!$C$16,4) -> Row | K15: =LEFT(Setup!$C$17,4) -> Chin | L15: =LEFT(Setup!$C$16,4) -> Row | M15: =LEFT(Setup!$C$17,4) -> Chin | N15: =LEFT(Setup!$C$16,4) -> Row | O15: =LEFT(Setup!$C$17,4) -> Chin | P15: =LEFT(Setup!$C$16,4) -> Row | Q15: =LEFT(Setup!$C$17,4) -> Chin | R15: =LEFT(Setup!$C$16,4) -> Row | S15: =LEFT(Setup!$C$17,4) -> Chin | T15: =LEFT(Setup!$C$16,4) -> Row | U15: =LEFT(Setup!$C$17,4) -> Chin | V15: =LEFT(Setup!$C$16,4) -> Row | W15: =LEFT(Setup!$C$17,4) -> Chin | X15: =LEFT(Setup!$C$16,4) -> Row | Y15: =LEFT(Setup!$C$17,4) -> Chin | Z15: =LEFT(Setup!$C$16,4) -> Row | AA15: =LEFT(Setup!$C$17,4) -> Chin | AB15: =LEFT(Setup!$C$16,4) -> Row | AC15: =LEFT(Setup!$C$17,4) -> Chin
F16: =IF((Setup!D16=0), "",Setup!D16) -> 100 | G16: =IF((Setup!D17=0), "",Setup!D17) -> 10 | H16: =IF(Setup!$D$16=0,"",MROUND(IF(F19=0,F16+Setup!$E$16,IF(F19<Setup!$F$16,F16*0.9,IF(F19<Setup!$F$16*2,F16+Setup!$E$16,F16+Setup!$E$16*2))),Setup!$G$16)) -> 102.5 | I16: =IF(Setup!$D$17=0,"",MROUND(IF(G19=0,G16+Setup!$E$17,IF(G19<Setup!$F$17,G16*0.9,IF(G19<Setup!$F$17*2,G16+Setup!$E$17,G16+Setup!$E$17*2))),Setup!$G$17)) -> 12.5 | J16: =IF(Setup!$D$16=0,"",MROUND(IF(H19=0,H16+Setup!$E$16,IF(H19<Setup!$F$16,H16*0.9,IF(H19<Setup!$F$16*2,H16+Setup!$E$16,H16+Setup!$E$16*2))),Setup!$G$16)) -> 105 | K16: =IF(Setup!$D$17=0,"",MROUND(IF(I19=0,I16+Setup!$E$17,IF(I19<Setup!$F$17,I16*0.9,IF(I19<Setup!$F$17*2,I16+Setup!$E$17,I16+Setup!$E$17*2))),Setup!$G$17)) -> 15 | L16: =IF(Setup!$D$16=0,"",MROUND(IF(J19=0,J16+Setup!$E$16,IF(J19<Setup!$F$16,J16*0.9,IF(J19<Setup!$F$16*2,J16+Setup!$E$16,J16+Setup!$E$16*2))),Setup!$G$16)) -> 107.5 | M16: =IF(Setup!$D$17=0,"",MROUND(IF(K19=0,K16+Setup!$E$17,IF(K19<Setup!$F$17,K16*0.9,IF(K19<Setup!$F$17*2,K16+Setup!$E$17,K16+Setup!$E$17*2))),Setup!$G$17)) -> 17.5 | N16: =IF(Setup!$D$16=0,"",MROUND(IF(L19=0,L16+Setup!$E$16,IF(L19<Setup!$F$16,L16*0.9,IF(L19<Setup!$F$16*2,L16+Setup!$E$16,L16+Setup!$E$16*2))),Setup!$G$16)) -> 110 | O16: =IF(Setup!$D$17=0,"",MROUND(IF(M19=0,M16+Setup!$E$17,IF(M19<Setup!$F$17,M16*0.9,IF(M19<Setup!$F$17*2,M16+Setup!$E$17,M16+Setup!$E$17*2))),Setup!$G$17)) -> 20 | P16: =IF(Setup!$D$16=0,"",MROUND(IF(N19=0,N16+Setup!$E$16,IF(N19<Setup!$F$16,N16*0.9,IF(N19<Setup!$F$16*2,N16+Setup!$E$16,N16+Setup!$E$16*2))),Setup!$G$16)) -> 112.5 | Q16: =IF(Setup!$D$17=0,"",MROUND(IF(O19=0,O16+Setup!$E$17,IF(O19<Setup!$F$17,O16*0.9,IF(O19<Setup!$F$17*2,O16+Setup!$E$17,O16+Setup!$E$17*2))),Setup!$G$17)) -> 22.5 | R16: =IF(Setup!$D$16=0,"",MROUND(IF(P19=0,P16+Setup!$E$16,IF(P19<Setup!$F$16,P16*0.9,IF(P19<Setup!$F$16*2,P16+Setup!$E$16,P16+Setup!$E$16*2))),Setup!$G$16)) -> 115 | S16: =IF(Setup!$D$17=0,"",MROUND(IF(Q19=0,Q16+Setup!$E$17,IF(Q19<Setup!$F$17,Q16*0.9,IF(Q19<Setup!$F$17*2,Q16+Setup!$E$17,Q16+Setup!$E$17*2))),Setup!$G$17)) -> 25 | T16: =IF(Setup!$D$16=0,"",MROUND(IF(R19=0,R16+Setup!$E$16,IF(R19<Setup!$F$16,R16*0.9,IF(R19<Setup!$F$16*2,R16+Setup!$E$16,R16+Setup!$E$16*2))),Setup!$G$16)) -> 117.5 | U16: =IF(Setup!$D$17=0,"",MROUND(IF(S19=0,S16+Setup!$E$17,IF(S19<Setup!$F$17,S16*0.9,IF(S19<Setup!$F$17*2,S16+Setup!$E$17,S16+Setup!$E$17*2))),Setup!$G$17)) -> 27.5 | V16: =IF(Setup!$D$16=0,"",MROUND(IF(T19=0,T16+Setup!$E$16,IF(T19<Setup!$F$16,T16*0.9,IF(T19<Setup!$F$16*2,T16+Setup!$E$16,T16+Setup!$E$16*2))),Setup!$G$16)) -> 120 | W16: =IF(Setup!$D$17=0,"",MROUND(IF(U19=0,U16+Setup!$E$17,IF(U19<Setup!$F$17,U16*0.9,IF(U19<Setup!$F$17*2,U16+Setup!$E$17,U16+Setup!$E$17*2))),Setup!$G$17)) -> 30 | X16: =IF(Setup!$D$16=0,"",MROUND(IF(V19=0,V16+Setup!$E$16,IF(V19<Setup!$F$16,V16*0.9,IF(V19<Setup!$F$16*2,V16+Setup!$E$16,V16+Setup!$E$16*2))),Setup!$G$16)) -> 122.5 | Y16: =IF(Setup!$D$17=0,"",MROUND(IF(W19=0,W16+Setup!$E$17,IF(W19<Setup!$F$17,W16*0.9,IF(W19<Setup!$F$17*2,W16+Setup!$E$17,W16+Setup!$E$17*2))),Setup!$G$17)) -> 32.5 | Z16: =IF(Setup!$D$16=0,"",MROUND(IF(X19=0,X16+Setup!$E$16,IF(X19<Setup!$F$16,X16*0.9,IF(X19<Setup!$F$16*2,X16+Setup!$E$16,X16+Setup!$E$16*2))),Setup!$G$16)) -> 125 | AA16: =IF(Setup!$D$17=0,"",MROUND(IF(Y19=0,Y16+Setup!$E$17,IF(Y19<Setup!$F$17,Y16*0.9,IF(Y19<Setup!$F$17*2,Y16+Setup!$E$17,Y16+Setup!$E$17*2))),Setup!$G$17)) -> 35 | AB16: =IF(Setup!$D$16=0,"",MROUND(IF(Z19=0,Z16+Setup!$E$16,IF(Z19<Setup!$F$16,Z16*0.9,IF(Z19<Setup!$F$16*2,Z16+Setup!$E$16,Z16+Setup!$E$16*2))),Setup!$G$16)) -> 127.5 | AC16: =IF(Setup!$D$17=0,"",MROUND(IF(AA19=0,AA16+Setup!$E$17,IF(AA19<Setup!$F$17,AA16*0.9,IF(AA19<Setup!$F$17*2,AA16+Setup!$E$17,AA16+Setup!$E$17*2))),Setup!$G$17)) -> 37.5
D17: =CONCATENATE(Setup!$F$16,"/",Setup!$F$17) -> 5/5 | F17: 5
D18: =CONCATENATE(Setup!$F$16,"/",Setup!$F$17) -> 5/5 | F18: 5
D19: =CONCATENATE(Setup!$F$16,"+/",Setup!$F$17,"+") -> 5+/5+ | F19: 6
B21: =CONCATENATE(Setup!C12,"/",Setup!C13) -> Squat/Deadlift | F21: =LEFT(Setup!$C$12,5) -> Squat | G21: =LEFT(Setup!$C$13,4) -> Dead | H21: =LEFT(Setup!$C$12,5) -> Squat | I21: =LEFT(Setup!$C$12,5) -> Squat | J21: =LEFT(Setup!$C$13,4) -> Dead | K21: =LEFT(Setup!$C$12,5) -> Squat | L21: =LEFT(Setup!$C$12,5) -> Squat | M21: =LEFT(Setup!$C$13,4) -> Dead | N21: =LEFT(Setup!$C$12,5) -> Squat | O21: =LEFT(Setup!$C$12,5) -> Squat | P21: =LEFT(Setup!$C$13,4) -> Dead | Q21: =LEFT(Setup!$C$12,5) -> Squat | R21: =LEFT(Setup!$C$12,5) -> Squat | S21: =LEFT(Setup!$C$13,4) -> Dead | T21: =LEFT(Setup!$C$12,5) -> Squat | U21: =LEFT(Setup!$C$12,5) -> Squat | V21: =LEFT(Setup!$C$13,4) -> Dead | W21: =LEFT(Setup!$C$12,5) -> Squat | X21: =LEFT(Setup!$C$12,5) -> Squat | Y21: =LEFT(Setup!$C$13,4) -> Dead | Z21: =LEFT(Setup!$C$12,5) -> Squat | AA21: =LEFT(Setup!$C$12,5) -> Squat | AB21: =LEFT(Setup!$C$13,4) -> Dead | AC21: =LEFT(Setup!$C$12,5) -> Squat
D22: 5 | F22: =MAX(FLOOR(PRODUCT(F26,0.4),Setup!$D$6),F6) -> 52.5 | G22: =MAX(FLOOR(PRODUCT(G26,0.4),Setup!$D$6),G6) -> 60 | H22: =MAX(FLOOR(PRODUCT(H26,0.4),Setup!$D$6),H6) -> 55 | I22: =MAX(FLOOR(PRODUCT(I26,0.4),Setup!$D$6),I6) -> 55 | J22: =MAX(FLOOR(PRODUCT(J26,0.4),Setup!$D$6),J6) -> 60 | K22: =MAX(FLOOR(PRODUCT(K26,0.4),Setup!$D$6),K6) -> 55 | L22: =MAX(FLOOR(PRODUCT(L26,0.4),Setup!$D$6),L6) -> 57.5 | M22: =MAX(FLOOR(PRODUCT(M26,0.4),Setup!$D$6),M6) -> 62.5 | ... AC22: =MAX(FLOOR(PRODUCT(AC26,0.4),Setup!$D$6),AC6) -> 67.5
B23: Warm-Up | D23: 4 | F23: =MAX(FLOOR(PRODUCT(F26,0.55),Setup!$D$6),F6) -> 72.5 | G23: =MAX(FLOOR(PRODUCT(G26,0.55),Setup!$D$6),G6) -> 82.5 | H23: =MAX(FLOOR(PRODUCT(H26,0.55),Setup!$D$6),H6) -> 75 | I23: =MAX(FLOOR(PRODUCT(I26,0.55),Setup!$D$6),I6) -> 75 | J23: =MAX(FLOOR(PRODUCT(J26,0.55),Setup!$D$6),J6) -> 85 | K23: =MAX(FLOOR(PRODUCT(K26,0.55),Setup!$D$6),K6) -> 77.5 | L23: =MAX(FLOOR(PRODUCT(L26,0.55),Setup!$D$6),L6) -> 77.5 | M23: =MAX(FLOOR(PRODUCT(M26,0.55),Setup!$D$6),M6) -> 87.5 | ... AC23: =MAX(FLOOR(PRODUCT(AC26,0.55),Setup!$D$6),AC6) -> 92.5
D24: 3 | F24: =MAX(FLOOR(PRODUCT(F26,0.7),Setup!$D$6),F6) -> 92.5 | G24: =MAX(FLOOR(PRODUCT(G26,0.7),Setup!$D$6),G6) -> 105 | H24: =MAX(FLOOR(PRODUCT(H26,0.7),Setup!$D$6),H6) -> 95 | I24: =MAX(FLOOR(PRODUCT(I26,0.7),Setup!$D$6),I6) -> 97.5 | J24: =MAX(FLOOR(PRODUCT(J26,0.7),Setup!$D$6),J6) -> 107.5 | K24: =MAX(FLOOR(PRODUCT(K26,0.7),Setup!$D$6),K6) -> 97.5 | L24: =MAX(FLOOR(PRODUCT(L26,0.7),Setup!$D$6),L6) -> 100 | M24: =MAX(FLOOR(PRODUCT(M26,0.7),Setup!$D$6),M6) -> 110 | ... AC24: =MAX(FLOOR(PRODUCT(AC26,0.7),Setup!$D$6),AC6) -> 120
D25: 2 | F25: =MAX(FLOOR(PRODUCT(F26,0.85),Setup!$D$6),F6) -> 112.5 | G25: =MAX(FLOOR(PRODUCT(G26,0.85),Setup!$D$6),G6) -> 127.5 | H25: =MAX(FLOOR(PRODUCT(H26,0.85),Setup!$D$6),H6) -> 115 | I25: =MAX(FLOOR(PRODUCT(I26,0.85),Setup!$D$6),I6) -> 117.5 | J25: =MAX(FLOOR(PRODUCT(J26,0.85),Setup!$D$6),J6) -> 130 | K25: =MAX(FLOOR(PRODUCT(K26,0.85),Setup!$D$6),K6) -> 120 | L25: =MAX(FLOOR(PRODUCT(L26,0.85),Setup!$D$6),L6) -> 122.5 | M25: =MAX(FLOOR(PRODUCT(M26,0.85),Setup!$D$6),M6) -> 135 | ... AC25: =MAX(FLOOR(PRODUCT(AC26,0.85),Setup!$D$6),AC6) -> 145
F26: =Setup!D12 -> 135 | G26: =Setup!D13 -> 150 | H26: =MROUND(IF(F29=0,F26+Setup!$E$12,IF(F29<Setup!$F$12,F26*0.9,IF(F29<Setup!$F$12*2,F26+Setup!$E$12,F26+Setup!$E$12*2))),Setup!$G$12) -> 137.5 | I26: =MROUND(IF(H29=0,H26+Setup!$E$12,IF(H29<Setup!$F$12,H26*0.9,IF(H29<Setup!$F$12*2,H26+Setup!$E$12,H26+Setup!$E$12*2))),Setup!$G$12) -> 140 | J26: =MROUND(IF(G29=0,G26+Setup!$E$13,IF(G29<Setup!$F$13,G26*0.9,IF(G29<Setup!$F$13*2,G26+Setup!$E$13,G26+Setup!$E$13*2))),Setup!$G$13) -> 155 | K26: =MROUND(IF(I29=0,I26+Setup!$E$12,IF(I29<Setup!$F$12,I26*0.9,IF(I29<Setup!$F$12*2,I26+Setup!$E$12,I26+Setup!$E$12*2))),Setup!$G$12) -> 142.5 | L26: =MROUND(IF(K29=0,K26+Setup!$E$12,IF(K29<Setup!$F$12,K26*0.9,IF(K29<Setup!$F$12*2,K26+Setup!$E$12,K26+Setup!$E$12*2))),Setup!$G$12) -> 145 | M26: =MROUND(IF(J29=0,J26+Setup!$E$13,IF(J29<Setup!$F$13,J26*0.9,IF(J29<Setup!$F$13*2,J26+Setup!$E$13,J26+Setup!$E$13*2))),Setup!$G$13) -> 160 | N26: =MROUND(IF(L29=0,L26+Setup!$E$12,IF(L29<Setup!$F$12,L26*0.9,IF(L29<Setup!$F$12*2,L26+Setup!$E$12,L26+Setup!$E$12*2))),Setup!$G$12) -> 147.5 | O26: =MROUND(IF(N29=0,N26+Setup!$E$12,IF(N29<Setup!$F$12,N26*0.9,IF(N29<Setup!$F$12*2,N26+Setup!$E$12,N26+Setup!$E$12*2))),Setup!$G$12) -> 150 | P26: =MROUND(IF(M29=0,M26+Setup!$E$13,IF(M29<Setup!$F$13,M26*0.9,IF(M29<Setup!$F$13*2,M26+Setup!$E$13,M26+Setup!$E$13*2))),Setup!$G$13) -> 165 | Q26: =MROUND(IF(O29=0,O26+Setup!$E$12,IF(O29<Setup!$F$12,O26*0.9,IF(O29<Setup!$F$12*2,O26+Setup!$E$12,O26+Setup!$E$12*2))),Setup!$G$12) -> 152.5 | R26: =MROUND(IF(Q29=0,Q26+Setup!$E$12,IF(Q29<Setup!$F$12,Q26*0.9,IF(Q29<Setup!$F$12*2,Q26+Setup!$E$12,Q26+Setup!$E$12*2))),Setup!$G$12) -> 155 | S26: =MROUND(IF(P29=0,P26+Setup!$E$13,IF(P29<Setup!$F$13,P26*0.9,IF(P29<Setup!$F$13*2,P26+Setup!$E$13,P26+Setup!$E$13*2))),Setup!$G$13) -> 170 | T26: =MROUND(IF(R29=0,R26+Setup!$E$12,IF(R29<Setup!$F$12,R26*0.9,IF(R29<Setup!$F$12*2,R26+Setup!$E$12,R26+Setup!$E$12*2))),Setup!$G$12) -> 157.5 | U26: =MROUND(IF(T29=0,T26+Setup!$E$12,IF(T29<Setup!$F$12,T26*0.9,IF(T29<Setup!$F$12*2,T26+Setup!$E$12,T26+Setup!$E$12*2))),Setup!$G$12) -> 160 | V26: =MROUND(IF(S29=0,S26+Setup!$E$13,IF(S29<Setup!$F$13,S26*0.9,IF(S29<Setup!$F$13*2,S26+Setup!$E$13,S26+Setup!$E$13*2))),Setup!$G$13) -> 175 | W26: =MROUND(IF(U29=0,U26+Setup!$E$12,IF(U29<Setup!$F$12,U26*0.9,IF(U29<Setup!$F$12*2,U26+Setup!$E$12,U26+Setup!$E$12*2))),Setup!$G$12) -> 162.5 | X26: =MROUND(IF(W29=0,W26+Setup!$E$12,IF(W29<Setup!$F$12,W26*0.9,IF(W29<Setup!$F$12*2,W26+Setup!$E$12,W26+Setup!$E$12*2))),Setup!$G$12) -> 165 | Y26: =MROUND(IF(V29=0,V26+Setup!$E$13,IF(V29<Setup!$F$13,V26*0.9,IF(V29<Setup!$F$13*2,V26+Setup!$E$13,V26+Setup!$E$13*2))),Setup!$G$13) -> 180 | Z26: =MROUND(IF(X29=0,X26+Setup!$E$12,IF(X29<Setup!$F$12,X26*0.9,IF(X29<Setup!$F$12*2,X26+Setup!$E$12,X26+Setup!$E$12*2))),Setup!$G$12) -> 167.5 | AA26: =MROUND(IF(Z29=0,Z26+Setup!$E$12,IF(Z29<Setup!$F$12,Z26*0.9,IF(Z29<Setup!$F$12*2,Z26+Setup!$E$12,Z26+Setup!$E$12*2))),Setup!$G$12) -> 170 | AB26: =MROUND(IF(Y29=0,Y26+Setup!$E$13,IF(Y29<Setup!$F$13,Y26*0.9,IF(Y29<Setup!$F$13*2,Y26+Setup!$E$13,Y26+Setup!$E$13*2))),Setup!$G$13) -> 185 | AC26: =MROUND(IF(AA29=0,AA26+Setup!$E$12,IF(AA29<Setup!$F$12,AA26*0.9,IF(AA29<Setup!$F$12*2,AA26+Setup!$E$12,AA26+Setup!$E$12*2))),Setup!$G$12) -> 172.5
D27: =Setup!$F$12 -> 5 | F27: 5
D28: =Setup!$F$12 -> 5 | F28: 5
D29: =CONCATENATE(Setup!$F$12,"+/",Setup!$F$13,"+") -> 5+/5+ | F29: 5
B31: =CONCATENATE(Setup!C20,"/",Setup!C21) -> Tricep Ext./Bicep Curl | F31: =LEFT(Setup!$C$20,6) -> Tricep | G31: =LEFT(Setup!$C$21,6) -> Bicep | H31: =LEFT(Setup!$C$20,6) -> Tricep | I31: =LEFT(Setup!$C$21,6) -> Bicep | J31: =LEFT(Setup!$C$20,6) -> Tricep | K31: =LEFT(Setup!$C$21,6) -> Bicep | L31: =LEFT(Setup!$C$20,6) -> Tricep | M31: =LEFT(Setup!$C$21,6) -> Bicep | N31: =LEFT(Setup!$C$20,6) -> Tricep | O31: =LEFT(Setup!$C$21,6) -> Bicep | P31: =LEFT(Setup!$C$20,6) -> Tricep | Q31: =LEFT(Setup!$C$21,6) -> Bicep | R31: =LEFT(Setup!$C$20,6) -> Tricep | S31: =LEFT(Setup!$C$21,6) -> Bicep | T31: =LEFT(Setup!$C$20,6) -> Tricep | U31: =LEFT(Setup!$C$21,6) -> Bicep | V31: =LEFT(Setup!$C$20,6) -> Tricep | W31: =LEFT(Setup!$C$21,6) -> Bicep | X31: =LEFT(Setup!$C$20,6) -> Tricep | Y31: =LEFT(Setup!$C$21,6) -> Bicep | Z31: =LEFT(Setup!$C$20,6) -> Tricep | AA31: =LEFT(Setup!$C$21,6) -> Bicep | AB31: =LEFT(Setup!$C$20,6) -> Tricep | AC31: =LEFT(Setup!$C$21,6) -> Bicep
F32: =Setup!D20 -> 25 | G32: =Setup!D21 -> 25 | H32: =MROUND(IF(F35=0,F32,IF(F35<Setup!$F$20-2,F32*0.9,IF(F35>Setup!$F$20+2,F32+Setup!$E$20,F32))),Setup!$G$20) -> 25 | I32: =MROUND(IF(G35=0,G32,IF(G35<Setup!$F$21-2,G32*0.9,IF(G35>Setup!$F$20+2,G32+Setup!$E$21,G32))),Setup!$G$21) -> 25 | J32: =MROUND(IF(H35=0,H32,IF(H35<Setup!$F$20-2,H32*0.9,IF(H35>Setup!$F$20+2,H32+Setup!$E$20,H32))),Setup!$G$20) -> 25 | K32: =MROUND(IF(I35=0,I32,IF(I35<Setup!$F$21-2,I32*0.9,IF(I35>Setup!$F$20+2,I32+Setup!$E$21,I32))),Setup!$G$21) -> 25 | L32: =MROUND(IF(J35=0,J32,IF(J35<Setup!$F$20-2,J32*0.9,IF(J35>Setup!$F$20+2,J32+Setup!$E$20,J32))),Setup!$G$20) -> 25 | M32: =MROUND(IF(K35=0,K32,IF(K35<Setup!$F$21-2,K32*0.9,IF(K35>Setup!$F$20+2,K32+Setup!$E$21,K32))),Setup!$G$21) -> 25 | N32: =MROUND(IF(L35=0,L32,IF(L35<Setup!$F$20-2,L32*0.9,IF(L35>Setup!$F$20+2,L32+Setup!$E$20,L32))),Setup!$G$20) -> 25 | O32: =MROUND(IF(M35=0,M32,IF(M35<Setup!$F$21-2,M32*0.9,IF(M35>Setup!$F$20+2,M32+Setup!$E$21,M32))),Setup!$G$21) -> 25 | P32: =MROUND(IF(N35=0,N32,IF(N35<Setup!$F$20-2,N32*0.9,IF(N35>Setup!$F$20+2,N32+Setup!$E$20,N32))),Setup!$G$20) -> 25 | Q32: =MROUND(IF(O35=0,O32,IF(O35<Setup!$F$21-2,O32*0.9,IF(O35>Setup!$F$20+2,O32+Setup!$E$21,O32))),Setup!$G$21) -> 25 | R32: =MROUND(IF(P35=0,P32,IF(P35<Setup!$F$20-2,P32*0.9,IF(P35>Setup!$F$20+2,P32+Setup!$E$20,P32))),Setup!$G$20) -> 25 | S32: =MROUND(IF(Q35=0,Q32,IF(Q35<Setup!$F$21-2,Q32*0.9,IF(Q35>Setup!$F$20+2,Q32+Setup!$E$21,Q32))),Setup!$G$21) -> 25 | T32: =MROUND(IF(R35=0,R32,IF(R35<Setup!$F$20-2,R32*0.9,IF(R35>Setup!$F$20+2,R32+Setup!$E$20,R32))),Setup!$G$20) -> 25 | U32: =MROUND(IF(S35=0,S32,IF(S35<Setup!$F$21-2,S32*0.9,IF(S35>Setup!$F$20+2,S32+Setup!$E$21,S32))),Setup!$G$21) -> 25 | V32: =MROUND(IF(T35=0,T32,IF(T35<Setup!$F$20-2,T32*0.9,IF(T35>Setup!$F$20+2,T32+Setup!$E$20,T32))),Setup!$G$20) -> 25 | W32: =MROUND(IF(U35=0,U32,IF(U35<Setup!$F$21-2,U32*0.9,IF(U35>Setup!$F$20+2,U32+Setup!$E$21,U32))),Setup!$G$21) -> 25 | X32: =MROUND(IF(V35=0,V32,IF(V35<Setup!$F$20-2,V32*0.9,IF(V35>Setup!$F$20+2,V32+Setup!$E$20,V32))),Setup!$G$20) -> 25 | Y32: =MROUND(IF(W35=0,W32,IF(W35<Setup!$F$21-2,W32*0.9,IF(W35>Setup!$F$20+2,W32+Setup!$E$21,W32))),Setup!$G$21) -> 25 | Z32: =MROUND(IF(X35=0,X32,IF(X35<Setup!$F$20-2,X32*0.9,IF(X35>Setup!$F$20+2,X32+Setup!$E$20,X32))),Setup!$G$20) -> 25 | AA32: =MROUND(IF(Y35=0,Y32,IF(Y35<Setup!$F$21-2,Y32*0.9,IF(Y35>Setup!$F$20+2,Y32+Setup!$E$21,Y32))),Setup!$G$21) -> 25 | AB32: =MROUND(IF(Z35=0,Z32,IF(Z35<Setup!$F$20-2,Z32*0.9,IF(Z35>Setup!$F$20+2,Z32+Setup!$E$20,Z32))),Setup!$G$20) -> 25 | AC32: =MROUND(IF(AA35=0,AA32,IF(AA35<Setup!$F$21-2,AA32*0.9,IF(AA35>Setup!$F$20+2,AA32+Setup!$E$21,AA32))),Setup!$G$21) -> 25
D33: =CONCATENATE(Setup!$F$20,"/",Setup!$F$21) -> 12/12 | F33: 12
D34: =CONCATENATE(Setup!$F$20,"/",Setup!$F$21) -> 12/12 | F34: 12
D35: =CONCATENATE(Setup!$F$20,"+/",Setup!$F$21,"+") -> 12+/12+ | F35: 12
B37: =CONCATENATE(Setup!C24,"/",Setup!C25) -> Ab Rollout/Shrug | F37: =LEFT(Setup!$C$24,2) -> Ab | G37: =LEFT(Setup!$C$25,5) -> Shrug | H37: =LEFT(Setup!$C$24,2) -> Ab | I37: =LEFT(Setup!$C$24,2) -> Ab | J37: =LEFT(Setup!$C$25,5) -> Shrug | K37: =LEFT(Setup!$C$24,2) -> Ab | L37: =LEFT(Setup!$C$24,2) -> Ab | M37: =LEFT(Setup!$C$25,5) -> Shrug | N37: =LEFT(Setup!$C$24,2) -> Ab | O37: =LEFT(Setup!$C$24,2) -> Ab | P37: =LEFT(Setup!$C$25,5) -> Shrug | Q37: =LEFT(Setup!$C$24,2) -> Ab | R37: =LEFT(Setup!$C$24,2) -> Ab | S37: =LEFT(Setup!$C$25,5) -> Shrug | T37: =LEFT(Setup!$C$24,2) -> Ab | U37: =LEFT(Setup!$C$24,2) -> Ab | V37: =LEFT(Setup!$C$25,5) -> Shrug | W37: =LEFT(Setup!$C$24,2) -> Ab | X37: =LEFT(Setup!$C$24,2) -> Ab | Y37: =LEFT(Setup!$C$25,5) -> Shrug | Z37: =LEFT(Setup!$C$24,2) -> Ab | AA37: =LEFT(Setup!$C$24,2) -> Ab | AB37: =LEFT(Setup!$C$25,5) -> Shrug | AC37: =LEFT(Setup!$C$24,2) -> Ab
F38: =IF((Setup!D24=0), "", Setup!D24) | G38: =Setup!D25 -> 100 | H38: =IF(Setup!$D$24=0,"",(MROUND(IF(F41=0,F38,IF(F41<Setup!$F$24-2,F38*0.9,IF(F41>Setup!$F$24+2,F38+Setup!$E$24,F38))),Setup!$G$24))) | I38: =IF(Setup!$D$24=0,"",(MROUND(IF(H41=0,H38,IF(H41<Setup!$F$24-2,H38*0.9,IF(H41>Setup!$F$24+2,H38+Setup!$E$24,H38))),Setup!$G$24))) | J38: =MROUND(IF(G41=0,G38,IF(G41<Setup!$F$25-2,G38*0.9,IF(G41>Setup!$F$25+2,G38+Setup!$E$25,G38))),Setup!$G$25) -> 100 | K38: =IF(Setup!$D$24=0,"",(MROUND(IF(I41=0,I38,IF(I41<Setup!$F$24-2,I38*0.9,IF(I41>Setup!$F$24+2,I38+Setup!$E$24,I38))),Setup!$G$24))) | L38: =IF(Setup!$D$24=0,"",(MROUND(IF(K41=0,K38,IF(K41<Setup!$F$24-2,K38*0.9,IF(K41>Setup!$F$24+2,K38+Setup!$E$24,K38))),Setup!$G$24))) | M38: =MROUND(IF(J41=0,J38,IF(J41<Setup!$F$25-2,J38*0.9,IF(J41>Setup!$F$25+2,J38+Setup!$E$25,J38))),Setup!$G$25) -> 100 | N38: =IF(Setup!$D$24=0,"",(MROUND(IF(L41=0,L38,IF(L41<Setup!$F$24-2,L38*0.9,IF(L41>Setup!$F$24+2,L38+Setup!$E$24,L38))),Setup!$G$24))) | O38: =IF(Setup!$D$24=0,"",(MROUND(IF(N41=0,N38,IF(N41<Setup!$F$24-2,N38*0.9,IF(N41>Setup!$F$24+2,N38+Setup!$E$24,N38))),Setup!$G$24))) | P38: =MROUND(IF(M41=0,M38,IF(M41<Setup!$F$25-2,M38*0.9,IF(M41>Setup!$F$25+2,M38+Setup!$E$25,M38))),Setup!$G$25) -> 100 | Q38: =IF(Setup!$D$24=0,"",(MROUND(IF(O41=0,O38,IF(O41<Setup!$F$24-2,O38*0.9,IF(O41>Setup!$F$24+2,O38+Setup!$E$24,O38))),Setup!$G$24))) | R38: =IF(Setup!$D$24=0,"",(MROUND(IF(Q41=0,Q38,IF(Q41<Setup!$F$24-2,Q38*0.9,IF(Q41>Setup!$F$24+2,Q38+Setup!$E$24,Q38))),Setup!$G$24))) | S38: =MROUND(IF(P41=0,P38,IF(P41<Setup!$F$25-2,P38*0.9,IF(P41>Setup!$F$25+2,P38+Setup!$E$25,P38))),Setup!$G$25) -> 100 | T38: =IF(Setup!$D$24=0,"",(MROUND(IF(R41=0,R38,IF(R41<Setup!$F$24-2,R38*0.9,IF(R41>Setup!$F$24+2,R38+Setup!$E$24,R38))),Setup!$G$24))) | U38: =IF(Setup!$D$24=0,"",(MROUND(IF(T41=0,T38,IF(T41<Setup!$F$24-2,T38*0.9,IF(T41>Setup!$F$24+2,T38+Setup!$E$24,T38))),Setup!$G$24))) | V38: =MROUND(IF(S41=0,S38,IF(S41<Setup!$F$25-2,S38*0.9,IF(S41>Setup!$F$25+2,S38+Setup!$E$25,S38))),Setup!$G$25) -> 100 | W38: =IF(Setup!$D$24=0,"",(MROUND(IF(U41=0,U38,IF(U41<Setup!$F$24-2,U38*0.9,IF(U41>Setup!$F$24+2,U38+Setup!$E$24,U38))),Setup!$G$24))) | X38: =IF(Setup!$D$24=0,"",(MROUND(IF(W41=0,W38,IF(W41<Setup!$F$24-2,W38*0.9,IF(W41>Setup!$F$24+2,W38+Setup!$E$24,W38))),Setup!$G$24))) | Y38: =MROUND(IF(V41=0,V38,IF(V41<Setup!$F$25-2,V38*0.9,IF(V41>Setup!$F$25+2,V38+Setup!$E$25,V38))),Setup!$G$25) -> 100 | Z38: =IF(Setup!$D$24=0,"",(MROUND(IF(X41=0,X38,IF(X41<Setup!$F$24-2,X38*0.9,IF(X41>Setup!$F$24+2,X38+Setup!$E$24,X38))),Setup!$G$24))) | AA38: =IF(Setup!$D$24=0,"",(MROUND(IF(Z41=0,Z38,IF(Z41<Setup!$F$24-2,Z38*0.9,IF(Z41>Setup!$F$24+2,Z38+Setup!$E$24,Z38))),Setup!$G$24))) | AB38: =MROUND(IF(Y41=0,Y38,IF(Y41<Setup!$F$25-2,Y38*0.9,IF(Y41>Setup!$F$25+2,Y38+Setup!$E$25,Y38))),Setup!$G$25) -> 100 | AC38: =IF(Setup!$D$24=0,"",(MROUND(IF(AA41=0,AA38,IF(AA41<Setup!$F$24-2,AA38*0.9,IF(AA41>Setup!$F$24+2,AA38+Setup!$E$24,AA38))),Setup!$G$24)))
D39: =CONCATENATE(Setup!$F$24,"/",Setup!$F$25) -> 12/12 | F39: 12
D40: =CONCATENATE(Setup!$F$24,"/",Setup!$F$25) -> 12/12 | F40: 12
D41: =CONCATENATE(Setup!$F$24,"+/",Setup!$F$25,"+") -> 12+/12+ | F41: 12

Sheet Progress
D3: Estimated 1RM | E3: 1.1 | F3: 1.2 | G3: 1.3 | H3: 2.1 | I3: 2.2 | J3: 2.3 | K3: 3.1 | L3: 3.2 | M3: 3.3 | N3: 4.1 | O3: 4.2 | P3: 4.3 | Q3: 5.1 | R3: 5.2 | S3: 5.3 | T3: 6.1 | U3: 6.2 | V3: 6.3 | W3: 7.1 | X3: 7.2 | Y3: 7.3 | Z3: 8.1 | AA3: 8.2 | AB3: 8.3
D4: =LEFT(Setup!$C$10,10) -> Bench | E4: =IF(Lift!F13=0,NA(),Lift!F10/(1.0278-(0.0278*Lift!F13))) -> 139.37282 | G4: =IF(Lift!H13=0,NA(),Lift!H10/(1.0278-(0.0278*Lift!H13))) -> #N/A | I4: =IF(Lift!J13=0,NA(),Lift!J10/(1.0278-(0.0278*Lift!J13))) -> #N/A | K4: =IF(Lift!L13=0,NA(),Lift!L10/(1.0278-(0.0278*Lift!L13))) -> #N/A | M4: =IF(Lift!N13=0,NA(),Lift!N10/(1.0278-(0.0278*Lift!N13))) -> #N/A | O4: =IF(Lift!P13=0,NA(),Lift!P10/(1.0278-(0.0278*Lift!P13))) -> #N/A | Q4: =IF(Lift!R13=0,NA(),Lift!R10/(1.0278-(0.0278*Lift!R13))) -> #N/A | S4: =IF(Lift!T13=0,NA(),Lift!T10/(1.0278-(0.0278*Lift!T13))) -> #N/A | U4: =IF(Lift!V13=0,NA(),Lift!V10/(1.0278-(0.0278*Lift!V13))) -> #N/A | W4: =IF(Lift!X13=0,NA(),Lift!X10/(1.0278-(0.0278*Lift!X13))) -> #N/A | Y4: =IF(Lift!Z13=0,NA(),Lift!Z10/(1.0278-(0.0278*Lift!Z13))) -> #N/A | AA4: =IF(Lift!AB13=0,NA(),Lift!AB10/(1.0278-(0.0278*Lift!AB13))) -> #N/A
D5: =LEFT(Setup!$C$11,10) -> OHP | F5: =IF(Lift!G13=0,NA(),Lift!G10/(1.0278-(0.0278*Lift!G13))) -> 69.686411 | H5: =IF(Lift!I13=0,NA(),Lift!I10/(1.0278-(0.0278*Lift!I13))) -> #N/A | J5: =IF(Lift!K13=0,NA(),Lift!K10/(1.0278-(0.0278*Lift!K13))) -> #N/A | L5: =IF(Lift!M13=0,NA(),Lift!M10/(1.0278-(0.0278*Lift!M13))) -> #N/A | N5: =IF(Lift!O13=0,NA(),Lift!O10/(1.0278-(0.0278*Lift!O13))) -> #N/A | P5: =IF(Lift!Q13=0,NA(),Lift!Q10/(1.0278-(0.0278*Lift!Q13))) -> #N/A | R5: =IF(Lift!S13=0,NA(),Lift!S10/(1.0278-(0.0278*Lift!S13))) -> #N/A | T5: =IF(Lift!U13=0,NA(),Lift!U10/(1.0278-(0.0278*Lift!U13))) -> #N/A | V5: =IF(Lift!W13=0,NA(),Lift!W10/(1.0278-(0.0278*Lift!W13))) -> #N/A | X5: =IF(Lift!Y13=0,NA(),Lift!Y10/(1.0278-(0.0278*Lift!Y13))) -> #N/A | Z5: =IF(Lift!AA13=0,NA(),Lift!AA10/(1.0278-(0.0278*Lift!AA13))) -> #N/A | AB5: =IF(Lift!AC13=0,NA(),Lift!AC10/(1.0278-(0.0278*Lift!AC13))) -> #N/A
D6: =LEFT(Setup!$C$12,10) -> Squat | E6: =IF(Lift!F29=0,NA(),Lift!F26/(1.0278-(0.0278*Lift!F29))) -> 151.89019 | G6: =IF(Lift!H29=0,NA(),Lift!H26/(1.0278-(0.0278*Lift!H29))) -> #N/A | H6: =IF(Lift!I29=0,NA(),Lift!I26/(1.0278-(0.0278*Lift!I29))) -> #N/A | J6: =IF(Lift!K29=0,NA(),Lift!K26/(1.0278-(0.0278*Lift!K29))) -> #N/A | K6: =IF(Lift!L29=0,NA(),Lift!L26/(1.0278-(0.0278*Lift!L29))) -> #N/A | M6: =IF(Lift!N29=0,NA(),Lift!N26/(1.0278-(0.0278*Lift!N29))) -> #N/A | N6: =IF(Lift!O29=0,NA(),Lift!O26/(1.0278-(0.0278*Lift!O29))) -> #N/A | P6: =IF(Lift!Q29=0,NA(),Lift!Q26/(1.0278-(0.0278*Lift!Q29))) -> #N/A | Q6: =IF(Lift!R29=0,NA(),Lift!R26/(1.0278-(0.0278*Lift!R29))) -> #N/A | S6: =IF(Lift!T29=0,NA(),Lift!T26/(1.0278-(0.0278*Lift!T29))) -> #N/A | T6: =IF(Lift!U29=0,NA(),Lift!U26/(1.0278-(0.0278*Lift!U29))) -> #N/A | V6: =IF(Lift!W29=0,NA(),Lift!W26/(1.0278-(0.0278*Lift!W29))) -> #N/A | W6: =IF(Lift!X29=0,NA(),Lift!X26/(1.0278-(0.0278*Lift!X29))) -> #N/A | Y6: =IF(Lift!Z29=0,NA(),Lift!Z26/(1.0278-(0.0278*Lift!Z29))) -> #N/A | Z6: =IF(Lift!AA29=0,NA(),Lift!AA26/(1.0278-(0.0278*Lift!AA29))) -> #N/A | AB6: =IF(Lift!AC29=0,NA(),Lift!AC26/(1.0278-(0.0278*Lift!AC29))) -> #N/A
D7: =LEFT(Setup!$C$13,10) -> Deadlift | F7: =IF(Lift!G29=0,NA(),Lift!G26/(1.0278-(0.0278*Lift!G29))) -> #N/A | I7: =IF(Lift!J29=0,NA(),Lift!J26/(1.0278-(0.0278*Lift!J29))) -> #N/A | L7: =IF(Lift!M29=0,NA(),Lift!M26/(1.0278-(0.0278*Lift!M29))) -> #N/A | O7: =IF(Lift!P29=0,NA(),Lift!P26/(1.0278-(0.0278*Lift!P29))) -> #N/A | R7: =IF(Lift!S29=0,NA(),Lift!S26/(1.0278-(0.0278*Lift!S29))) -> #N/A | U7: =IF(Lift!V29=0,NA(),Lift!V26/(1.0278-(0.0278*Lift!V29))) -> #N/A | X7: =IF(Lift!Y29=0,NA(),Lift!Y26/(1.0278-(0.0278*Lift!Y29))) -> #N/A | AA7: =IF(Lift!AB29=0,NA(),Lift!AB26/(1.0278-(0.0278*Lift!AB29))) -> #N/A
F21: =LEFT(Setup!$C$12,5) -> Squat
R33: =IF(Lift!R55=0,NA(),Lift!R52/(1.0278-(0.0278*Lift!R55))) -> #N/A
