Workbook

Sheet Inputs
A1: Candito 6 Week Intermediate + Advanced Bench Program Combined
A3: Start date | B3: 43101
A5: Unit | B5: lbs
A7: Lift | B7: 1RM
A8: Squat | B8: 320
A9: Deadlift | B9: 420
A10: Bench | B10: 230
A11: Desired Bench Max | B11: 240 | C11: Set at about 2-5% above current 1RM: | G11: =MROUND(1.02*B10,$C$30) & "-" & MROUND(1.05*B10,$C$30) -> 235-240
C12: This should be something achievable in 6 weeks
A14: Bench Accessories
A15: Low pin press accessory | B15: Low Pin Press | D15: If low-pin press or board is available - use this
A16: High pin press accessory | B16: 2ct Pause Bench | D16: If high-pin press or board is available - use this
A17: High specificity accessory | B17: Close Grip Bench | D17: Do not pick an accessory that is the same as an alternative low-pin or high-pin accessory
A18: Low specificity accessory | B18: Incline DB Press
A20: Deadlift Variation
A21: Variation | B21: Snatch Grip Conv. Deadlift
A23: Upper Body Accessories
A24: Back - Horizontal | B24: Barbell Row
A25: Shoulders | B25: Seated DB OHP
A26: Back - Vertical | B26: Weighted Pull-up (neutral grip)
A28: If you ever fail a rep, reduce the max for that lift by 2.5% going forwards.
A30: Loading Unit: | B30: kg | C30: =IF(B5="kg",2.5,5) -> 5
B31: lbs
A33: Bench Accessories: | B33: Low pin press accessory | E33: High pin press accessory | H33: High specificity accessory | K33: Low specificity accessory
B34: Low Pin Press | E34: High Pin Press | H34: Close Grip Bench | K34: Incline Bench
B35: Low Board Press | E35: High Board Press | H35: Spoto Press | K35: Incline DB Press
B36: 3ct Pause Bench | E36: 2ct Pause Bench | H36: Feet Up Bench | K36: Incline DB Flys
B37: Wide Grip Bench | E37: Close Grip Bench | H37: Larsen Press | K37: Flat DB Flys
H38: 2ct Pause Bench | K38: Incline Cable Flys
A41: Main Accessories: | B41: Back - horizontal pull | E41: Shoulders | H41: Back - vertical pull
B42: Dumbbell Row | E42: Seated DB OHP | H42: Weighted Pull-up (overhand grip)
B43: Barbell Row | E43: Standing DB OHP | H43: Weighted Pull-up (neutral grip)
B44: Meadows Row | E44: OHP | H44: Weighted Chin-up
B45: Landmine V-bar Row | E45: Seated OHP | H45: Seated V-bar Pulldown
B46: Seated Row (wide grip) | E46: Viking Press | H46: Seated Lat Pulldown (wide grip)
B47: Seated Row (underhand grip) | E47: Kneeling Single Arm Landmine Press | H47: Seated Lat Pulldown (underhand grip)
A50: Deadlift Variations: | B50: Deadlift variations
B51: Candito Deadlift
B52: Stiff Leg Deadlift
B53: Pause Deadlift
B54: Snatch Grip Conv. Deadlift
B55: Deficit Deadlift
B56: Conv. Deadlift
A59: Additional Accessories: | B59: Upper pull exercises [Jonnie suggests 20 reps per set] | E59: Upper push exercises [Jonnie suggests 20 reps per set] | H59: Lower body exercises [Jonnie suggests 8-12 reps per set] | K59: Explosive lower body [Jonnie suggests 4 reps per set - will need to change this] | N59: Warm up/Activation exercises [not part of routine - just suggestions] | Q59: Core exercises [not part of routine - just suggestions]
B60: Horizontal rows machine | E60: Incline chest fly | H60: Calf raises on leg press | K60: Box jumps | N60: Leg flys (side, back, front) | Q60: Weighted planks
A61: [Addtional exercises | B61: Vertical rows machine | E61: Flat chest fly | H61: Laying hamstring curl | K61: Single leg box jump | N61: One foot hip thrust | Q61: Deadbugs
A62: can be added to the | B62: Cable bicep curl | E62: Skull crushers | H62: Leg extension | K62: Med ball throws | N62: Spiderman stretch | Q62: Weighted side planks
A63: bottom of each | B63: Preacher curl | E63: Incline bench press | H63: Hip thrust | K63: Explosive single leg press | N63: Bird-dogs | Q63: Copenhagen planks
A64: list for each group, | B64: Hammer curl | E64: Cable tricep extension | H64: Single leg press | K64: Jump squats | N64: Cat-cows | Q64: Banded leg extentions
A65: which will then show | B65: Rear delt flys | E65: Chest dips | H65: Single leg hamstring curl | K65: Power clean | N65: Hip aeroplanes | Q65: Pallof press
A66: up in the drop down | B66: Face pulls | E66: Shoulder flys machine | H66: Platz squat | N66: Band YTWLs | Q66: Ab roller
A67: menus for accessories | B67: Machine lat pullover | E67: Tricep extension machine | H67: Hack squats (reverse) | N67: Band rhomboid rows
A68: through the routine] | B68: Single arm cable row | E68: Flat press machine | H68: RDL | N68: Wall angels
B69: Staright arm lat pulldown | E69: Incline press machine | H69: Glute-ham raise | N69: Banded walks
B70: Preacher curl machine | N70: Clam shells
N71: Rotator cuff banded 3ct holds
N72: Shinbox getup
N73: Scapular pull-ups

Sheet Week 1
A1: Week 1 - Hypertrophy (w/ Moderate Difficulty)
B3: Lift | C3: Wt. | D3: RPE | E3: Sets | F3: Reps
A5: =Inputs!$B$3 -> 43101
B6: Squat | C6: =MROUND(Inputs!B8*0.8,Inputs!C30) -> 255 | D6: - | E6: 4 | F6: 6
B7: Bench | C7: =MROUND(Inputs!B10*0.7,Inputs!C30) -> 160 | D7: - | E7: 3 | F7: 3
B8: =Inputs!B17 -> Close Grip Bench | D8: RPE9 | E8: 3 | F8: 8
B9: Deadlift | C9: =MROUND(Inputs!B9*0.8,Inputs!C30) -> 335 | D9: - | E9: 2 | F9: 6
B10: Lower Accessory 1 | D10: RPE7 | E10: 3 | F10: 44173 | H10: Note, perform sets of 4 reps if an 'Explosive Lower Body' exercise is chosen here or at any point as a 'Lower Accessory'
B11: Lower Accessory 2 | D11: RPE7 | E11: 3 | F11: 44173
A13: =Inputs!$B$3+1 -> 43102
B14: Bench | C14: =MROUND(Inputs!B10*0.7,Inputs!C30) -> 160 | D14: - | E14: 3 | F14: 3
B15: =Inputs!B18 -> Incline DB Press | D15: RPE9 | E15: 3 | F15: 6
B16: =Inputs!$B$24 -> Barbell Row | D16: RPE8 | E16: 4 | F16: 44110
B17: =Inputs!$B$25 -> Seated DB OHP | D17: RPE8 | E17: 4 | F17: 44173
B18: =Inputs!$B$26 -> Weighted Pull-up (neutral grip) | D18: RPE8 | E18: 4 | F18: 44173
B19: Upper Push Accessory 1 | D19: RPE7 | E19: 3 | F19: 20
B20: Upper Push Accessory 2 | D20: RPE7 | E20: 3 | F20: 20
A22: =Inputs!$B$3+3 -> 43104
B23: Bench | C23: =MROUND(Inputs!B10*0.7,Inputs!C30) -> 160 | D23: - | E23: 3 | F23: 3
B24: =Inputs!B17 -> Close Grip Bench | D24: RPE9 | E24: 3 | F24: 6
B25: =Inputs!$B$24 -> Barbell Row | D25: RPE8 | E25: 4 | F25: 44110
B26: =Inputs!$B$25 -> Seated DB OHP | D26: RPE8 | E26: 4 | F26: 44173
B27: =Inputs!$B$26 -> Weighted Pull-up (neutral grip) | D27: RPE8 | E27: 4 | F27: 44173
B28: Upper Pull Accessory 1 | D28: RPE7 | E28: 3 | F28: 20
B29: Upper Pull Accessory 2 | D29: RPE7 | E29: 3 | F29: 20
A31: =Inputs!$B$3+4 -> 43105
B32: Squat | C32: =MROUND(Inputs!B8*0.7,Inputs!C30) -> 225 | D32: - | E32: 4 | F32: 8
B33: Bench | C33: =MROUND(Inputs!B10*0.7,Inputs!C30) -> 160 | D33: - | E33: 3 | F33: 3
B34: =Inputs!B18 -> Incline DB Press | D34: RPE9 | E34: 3 | F34: 3
B35: Deadlift | C35: =MROUND(Inputs!B9*0.7,Inputs!C30) -> 295 | D35: - | E35: 2 | F35: 8
B36: Lower Accessory 1 | D36: RPE7 | E36: 3 | F36: 44173
B37: Lower Accessory 2 | D37: RPE7 | E37: 3 | F37: 44173
A39: =Inputs!$B$3+5 -> 43106
B40: Bench | C40: =MROUND(Inputs!B10*0.7,Inputs!C30) -> 160 | D40: - | E40: 3 | F40: 3
B41: =Inputs!B17 -> Close Grip Bench | D41: RPE9 | E41: 3 | F41: 3
B42: =Inputs!$B$24 -> Barbell Row | D42: RPE8 | E42: 4 | F42: 44110
B43: =Inputs!$B$25 -> Seated DB OHP | D43: RPE8 | E43: 4 | F43: 44173
B44: =Inputs!$B$26 -> Weighted Pull-up (neutral grip) | D44: RPE8 | E44: 4 | F44: 44173
B45: Upper Accessory 1 | D45: RPE7 | E45: 3 | F45: 20
B46: Upper Accessory 2 | D46: RPE7 | E46: 3 | F46: 20

Sheet Week 2
A1: Week 2 - Hypertrophy (w/ Higher Difficulty)
B3: Lift | C3: Wt. | D3: RPE | E3: Sets | F3: Reps
A5: =Inputs!$B$3+7 -> 43108
B6: Squat | C6: =MROUND(Inputs!B8*0.8,Inputs!C30) -> 255 | D6: - | E6: 1 | F6: MR10 | H6: Extra Volume Squats - Add 5 lbs or 2.5 kg if using kg plates, then perform 5 sets x 3 reps each set with 60 seconds rest between sets.
C7: =MROUND(Inputs!B8*0.8,Inputs!C30)+Inputs!C30 -> 260 | D7: - | E7: 5 | F7: 3 | H7: Note - If you were not able to complete a minimum of 8 reps on the MR10 set, reduce max entered by 2.5% moving forward.
B8: Bench | C8: =MROUND(Inputs!B10*0.9,Inputs!C30) -> 205 | D8: - | E8: 3 | F8: 1 | H8: Still complete the 5 sets of 3 reps regardless even if you do perform less than 8 reps on the MR10 set.
C9: =MROUND(Inputs!B10*0.75,Inputs!C30) -> 175 | D9: - | E9: 3 | F9: 3
B10: =Inputs!$B$21 -> Snatch Grip Conv. Deadlift | D10: RPE9 | E10: 3 | F10: 8
B11: Lower Accessory 1 | D11: RPE7 | E11: 3 | F11: 44173
B12: Lower Accessory 2 | D12: RPE7 | E12: 3 | F12: 44173
A14: =Inputs!$B$3+8 -> 43109
B15: Bench | C15: =MROUND(Inputs!B10*0.75,Inputs!C30) -> 175 | D15: - | E15: 3 | F15: 3
B16: =Inputs!$B$15 -> Low Pin Press | D16: RPE9 | E16: 3 | F16: 6
B17: =Inputs!$B$24 -> Barbell Row | D17: RPE8 | E17: 3 | F17: 44112
B18: =Inputs!$B$25 -> Seated DB OHP | D18: RPE8 | E18: 3 | F18: 44110
B19: =Inputs!$B$26 -> Weighted Pull-up (neutral grip) | D19: RPE8 | E19: 3 | F19: 44110
B20: Upper Push Accessory 1 | D20: RPE7 | E20: 3 | F20: 20
B21: Upper Push Accessory 2 | D21: RPE7 | E21: 3 | F21: 20
A23: =Inputs!$B$3+10 -> 43111
B24: Bench | C24: =MROUND(Inputs!B10*0.75,Inputs!C30) -> 175 | D24: - | E24: 3 | F24: 3
B25: =Inputs!$B$16 -> 2ct Pause Bench | D25: RPE9 | E25: 3 | F25: 6
B26: =Inputs!$B$24 -> Barbell Row | D26: RPE8 | E26: 3 | F26: 44112
B27: =Inputs!$B$25 -> Seated DB OHP | D27: RPE8 | E27: 3 | F27: 44110
B28: =Inputs!$B$26 -> Weighted Pull-up (neutral grip) | D28: RPE8 | E28: 3 | F28: 44110
B29: Upper Pull Accessory 1 | D29: RPE7 | E29: 3 | F29: 20
B30: Upper Pull Accessory 2 | D30: RPE7 | E30: 3 | F30: 20
A32: =Inputs!$B$3+11 -> 43112
B33: Squat | C33: =MROUND(Inputs!B8*0.8,Inputs!C30)+Inputs!C30 -> 260 | D33: - | E33: 1 | F33: MR10 | H33: Back Off Squats - Reduce weight by 10 lbs or 5 kg if using kg plates. Then proceed with the following:
C34: =MROUND(Inputs!B8*0.8,Inputs!C30)-Inputs!C30 -> 250 | D34: - | E34: 5-10 | F34: 3 | H34: If you were able to complete 10 reps on the MR10 set, perform 10 sets of 3 reps per set, with 60 seconds rest between sets.
B35: Bench | C35: =MROUND(Inputs!B10*0.75,Inputs!C30) -> 175 | D35: - | E35: 3 | F35: 3 | H35: If you completed 8-9 reps on the MR10 set, perform 8 sets of 3 reps per set, with 60 seconds rest between sets.
B36: =Inputs!$B$15 -> Low Pin Press | D36: RPE9 | E36: 3 | F36: 3 | H36: If you completed 7 reps on the MR 10 set, perform 5 sets of 3 reps per set, with 60 seconds rest between sets.
B37: =Inputs!$B$21 -> Snatch Grip Conv. Deadlift | D37: RPE9 | E37: 3 | F37: 8 | H37: If you completed less than 7 reps, skip back off sets entirely and reduce your entered 1 rep max by at least 2.5% for following weeks.
B38: Lower Accessory 1 | D38: RPE7 | E38: 3 | F38: 44173
B39: Lower Accessory 2 | D39: RPE7 | E39: 3 | F39: 44173
A41: =Inputs!$B$3+13 -> 43114
B42: Bench | C42: =MROUND(Inputs!B10*0.75,Inputs!C30) -> 175 | D42: - | E42: 3 | F42: 3
B43: =Inputs!$B$16 -> 2ct Pause Bench | D43: RPE9 | E43: 3 | F43: 3
B44: =Inputs!$B$24 -> Barbell Row | D44: RPE8 | E44: 3 | F44: 44112
B45: =Inputs!$B$25 -> Seated DB OHP | D45: RPE8 | E45: 3 | F45: 44110
B46: =Inputs!$B$26 -> Weighted Pull-up (neutral grip) | D46: RPE8 | E46: 3 | F46: 44110
B47: Upper Accessory 1 | D47: RPE7 | E47: 3 | F47: 20
B48: Upper Accessory 2 | D48: RPE7 | E48: 3 | F48: 20

Sheet Week 3
A1: Week 3 - Linear Max OT Phase
B3: Lift | C3: Wt. | D3: RPE | E3: Sets | F3: Reps
A5: =Inputs!$B$3+14 -> 43115
B6: Squat | C6: =MROUND(Inputs!B8*0.85,Inputs!C30)+Inputs!C30 -> 275 | D6: - | E6: 3 | F6: 4-6
B7: Bench | C7: =MROUND(Inputs!B10*0.9,Inputs!C30) -> 205 | D7: - | E7: 3 | F7: 1
C8: =MROUND(Inputs!B10*0.75,Inputs!C30)&"-"&MROUND(Inputs!B10*0.8,Inputs!C30) -> 175-185 | D8: - | E8: 3 | F8: 3
B9: Deadlift | C9: =MROUND(Inputs!B9*0.875,Inputs!C30) -> 370 | D9: - | E9: 3 | F9: 3-6
B10: No Accessory Lifts | C10: - | D10: - | E10: - | F10: -
A12: =Inputs!$B$3+15 -> 43116
B13: Bench | C13: =MROUND(Inputs!B10*0.75,Inputs!C30)&"-"&MROUND(Inputs!B10*0.8,Inputs!C30) -> 175-185 | D13: - | E13: 3 | F13: 3
B14: =Inputs!B17 -> Close Grip Bench | D14: RPE9 | E14: 3 | F14: 12
B15: =Inputs!$B$24 -> Barbell Row | D15: RPE8 | E15: 3 | F15: 6
B16: =Inputs!$B$25 -> Seated DB OHP | D16: RPE8 | E16: 3 | F16: 6
B17: =Inputs!$B$26 -> Weighted Pull-up (neutral grip) | D17: RPE8 | E17: 3 | F17: 6
B18: Upper Pull Accessory 1 | D18: RPE7 | E18: 3 | F18: 20
B19: Upper Pull Accessory 2 | D19: RPE7 | E19: 3 | F19: 20
A21: =Inputs!$B$3+16 -> 43117
B22: Bench | C22: =MROUND(Inputs!B10*0.75,Inputs!C30)&"-"&MROUND(Inputs!B10*0.8,Inputs!C30) -> 175-185 | D22: - | E22: 3 | F22: 3
B23: =Inputs!B18 -> Incline DB Press | D23: RPE9 | E23: 3 | F23: 12
B24: =Inputs!$B$24 -> Barbell Row | D24: RPE8 | E24: 3 | F24: 6
B25: =Inputs!$B$25 -> Seated DB OHP | D25: RPE8 | E25: 3 | F25: 6
B26: =Inputs!$B$26 -> Weighted Pull-up (neutral grip) | D26: RPE8 | E26: 3 | F26: 6
B27: Upper Push Accessory 1 | D27: RPE7 | E27: 3 | F27: 20
B28: Upper Push Accessory 2 | D28: RPE7 | E28: 3 | F28: 20
A30: =Inputs!$B$3+18 -> 43119
B31: Squat | C31: =MROUND(Inputs!B8*0.85,Inputs!C30)+Inputs!C30+Inputs!C30 -> 280 | D31: - | E31: 1 | F31: 4-6
B32: Bench | C32: =MROUND(Inputs!B10*0.75,Inputs!C30)&"-"&MROUND(Inputs!B10*0.8,Inputs!C30) -> 175-185 | D32: - | E32: 3 | F32: 3
B33: =Inputs!B17 -> Close Grip Bench | D33: RPE9 | E33: 3 | F33: 10
B34: =Inputs!$B$21 -> Snatch Grip Conv. Deadlift | D34: RPE9 | E34: 1 | F34: 8
B35: No Accessory Lifts | C35: - | D35: - | E35: - | F35: -
A37: =Inputs!$B$3+19 -> 43120
B38: Bench | C38: =MROUND(Inputs!B10*0.75,Inputs!C30)&"-"&MROUND(Inputs!B10*0.8,Inputs!C30) -> 175-185 | D38: - | E38: 3 | F38: 3
B39: =Inputs!B18 -> Incline DB Press | D39: RPE9 | E39: 3 | F39: 10
B40: =Inputs!$B$24 -> Barbell Row | D40: RPE8 | E40: 3 | F40: 6
B41: =Inputs!$B$25 -> Seated DB OHP | D41: RPE8 | E41: 3 | F41: 6
B42: =Inputs!$B$26 -> Weighted Pull-up (neutral grip) | D42: RPE8 | E42: 3 | F42: 6
B43: Upper Accessory 1 | D43: RPE7 | E43: 3 | F43: 20
B44: Upper Accessory 2 | D44: RPE7 | E44: 3 | F44: 20

Sheet Week 4
A1: Week 4 - Heavy Weight Acclimation
B3: Lift | C3: Wt. | D3: RPE | E3: Sets | F3: Reps
A5: =Inputs!$B$3+21 -> 43122
B6: Squat | C6: =MROUND(Inputs!B8*0.9,Inputs!C30)-2.5 -> 287.5 | D6: - | E6: 1 | F6: 3
C7: =MROUND(Inputs!B8*0.9,Inputs!C30) -> 290 | D7: - | E7: 1 | F7: 3
C8: =MROUND(Inputs!B8*0.9,Inputs!C30)+Inputs!C30 -> 295 | D8: - | E8: 1 | F8: 3
B9: =Inputs!$B$21 -> Snatch Grip Conv. Deadlift | D9: RPE9 | E9: 3 | F9: 6
B10: Lower Accessory 1 | D10: RPE7 | E10: 3 | F10: 44173
B11: Lower Accessory 2 | D11: RPE7 | E11: 3 | F11: 44173
A13: =Inputs!$B$3+22 -> 43123
B14: Bench | C14: =MROUND(Inputs!B11*0.8,Inputs!C30)&"-"&MROUND(Inputs!B11*0.825,Inputs!C30) -> 190-200 | D14: - | E14: 10 | F14: 3 | H14: On week 4 the prescribed rep range is 15-20 for just 1 set. The goal here is a true 20 rep max if possible, but 15 is acceptable as a no break minimum since predicting with accuracy will be difficult.
B15: =Inputs!B17 -> Close Grip Bench | D15: RPE10 | E15: PR Peak Set | F15: 15-20 | H15: After getting at least 15 reps, then you can rack the weight to just rest as little as possible before squeezing out the rest. No matter what 20 total reps should be completed.
B16: =Inputs!$B$24 -> Barbell Row | D16: RPE8 | E16: 4 | F16: 44110 | H16: Due to the fatigue from the bench press sets, optimal performance on these accessory peak sets is not expected. So don't be dissapointed if you have to use lighter weight than you anticipated.
B17: =Inputs!$B$25 -> Seated DB OHP | D17: RPE8 | E17: 4 | F17: 44173
B18: =Inputs!$B$26 -> Weighted Pull-up (neutral grip) | D18: RPE8 | E18: 4 | F18: 44173
B19: No Accessory Lifts | C19: - | D19: - | E19: - | F19: -
A21: =Inputs!$B$3+24 -> 43125
B22: Squat | C22: =MROUND(Inputs!B8*0.9,Inputs!C30)+Inputs!C30 -> 295 | D22: - | E22: 1 | F22: 3
C23: =MROUND(Inputs!B8*0.95,Inputs!C30) -> 305 | D23: - | E23: 1 | F23: 1-2
B24: Deadlift | C24: =MROUND(Inputs!B9*0.9,Inputs!C30)+Inputs!C30 -> 385 | D24: - | E24: 1 | F24: 3
C25: =MROUND(Inputs!B9*0.95,Inputs!C30) -> 400 | D25: - | E25: 1 | F25: 1-2
B26: Lower Accessory 1 | D26: RPE7 | E26: 3 | F26: 44173
B27: Lower Accessory 2 | D27: RPE7 | E27: 3 | F27: 44173
A29: =Inputs!$B$3+25 -> 43126
B30: Bench | C30: =MROUND(Inputs!B11*0.8,Inputs!C30)+Inputs!C30&"-"&MROUND(Inputs!B11*0.825,Inputs!C30)+(3*Inputs!C30) -> 195-215 | D30: - | E30: 5-10 | F30: 3 | H30: I'd rather have you choose the maximum weight and hit just 5 sets than the minumum
B31: =Inputs!B18 -> Incline DB Press | D31: RPE10 | E31: PR Peak Set | F31: 15-20 | H31: weight for 10 sets. So pick the heaviest weight if possible then do as many sets as you can. If you do
B32: =Inputs!$B$24 -> Barbell Row | D32: RPE8 | E32: 4 | F32: 44110 | H32: manage to hit both the max weight and max amount of sets (10), and feel no nagging pain from overuse,
B33: =Inputs!$B$25 -> Seated DB OHP | D33: RPE8 | E33: 4 | F33: 44173 | H33: then add 5 backoff sets x 3 reps with 80% of your goal max for extended pauses (3 seconds) on each rep.
B34: =Inputs!$B$26 -> Weighted Pull-up (neutral grip) | D34: RPE8 | E34: 4 | F34: 44173
B35: No Accessory Lifts | C35: - | D35: - | E35: - | F35: -

Sheet Week 5
A1: Week 5 - High Intensity Strength
B3: Lift | C3: Wt. | D3: RPE | E3: Sets | F3: Reps
A5: =Inputs!$B$3+28 -> 43129
B6: Squat | C6: =MROUND(Inputs!B8*0.975,Inputs!C30) -> 310 | D6: RPE10 | E6: 1 | F6: 1-7 | H6: Note, it should be highly unlikely to get any more than 4 reps here - achieving 2-4 reps should be considered very good. The option to go beyond this is for those incidents where
B7: Deadlift | C7: =MROUND(Inputs!B9*0.675,Inputs!C30) -> 285 | D7: - | E7: 1 | F7: 4 | H7: knee sleeves or a belt were introduced during this program (or form was changed which allowed for some serious freakish strength gains to be made).
C8: =MROUND(Inputs!B9*0.7,Inputs!C30) -> 295 | D8: - | E8: 1 | F8: 4
C9: =MROUND(Inputs!B9*0.725,Inputs!C30) -> 305 | D9: - | E9: 1 | F9: 2
B10: Lower Accessory 1 | D10: RPE7 | E10: 3 | F10: 44173
B11: Lower Accessory 2 | D11: RPE7 | E11: 3 | F11: 44173
A13: =Inputs!$B$3+30 -> 43131
B14: Bench | C14: =MROUND(Inputs!B10*0.975,Inputs!C30) -> 225 | D14: RPE10 | E14: 1 | F14: 44013 | H14: Note, it should be highly unlikely to get any more than 4 reps here - achieving 2-4 reps should be considered very good. The option to go beyond this is for those incidents where
B15: =Inputs!$B$24 -> Barbell Row | D15: RPE8 | E15: 3 | F15: 44049 | H15: knee sleeves or a belt were introduced during this program (or form was changed which allowed for some serious freakish strength gains to be made).
B16: =Inputs!$B$25 -> Seated DB OHP | D16: RPE8 | E16: 3 | F16: 44049
B17: =Inputs!$B$26 -> Weighted Pull-up (neutral grip) | D17: RPE8 | E17: 3 | F17: 44049
B18: Upper Accessory 1 | D18: RPE7 | E18: 3 | F18: 20
B19: Upper Accessory 2 | D19: RPE7 | E19: 3 | F19: 20
A21: =Inputs!$B$3+32 -> 43133
B22: Deadlift | C22: =MROUND(Inputs!B9*0.975,Inputs!C30) -> 410 | D22: RPE10 | E22: 1 | F22: 1-7 | H22: Note, it should be highly unlikely to get any more than 4 reps here - achieving 2-4 reps should be considered very good. The option to go beyond this is for those incidents where
B23: Lower Accessory 1 | D23: RPE7 | E23: 3 | F23: 44173 | H23: knee sleeves or a belt were introduced during this program (or form was changed which allowed for some serious freakish strength gains to be made).
B24: Lower Accessory 2 | D24: RPE7 | E24: 3 | F24: 44173
A26: =Inputs!$B$3+33 -> 43134
B27: Bench | D27: RPE10 | E27: 1 | F27: 5
C28: =MROUND(Inputs!B11*0.85,Inputs!C30) -> 205 | D28: - | E28: 5 | F28: 3
B29: =Inputs!$B$24 -> Barbell Row | D29: RPE8 | E29: 3 | F29: 44049
B30: =Inputs!$B$25 -> Seated DB OHP | D30: RPE8 | E30: 3 | F30: 44049
B31: =Inputs!$B$26 -> Weighted Pull-up (neutral grip) | D31: RPE8 | E31: 3 | F31: 44049
B32: Upper Accessory 1 | D32: RPE7 | E32: 3 | F32: 20
B33: Upper Accessory 2 | D33: RPE7 | E33: 3 | F33: 20

Sheet Projected
A1: Week 6 - Projected Maxes
A4: You have three options on how to proceed
A5: 1. Projected maxes - Skip week 6. Just use projected one rep max from week 5's 1-7 rep set via the calculator on this sheet. Start next cycle.
A6: 2. Deload and Projected - Use projected max for next cycle, but take a deload week (repeat week 1 with old 1RMs but skip accessories and last upper workout - use 'Deload' sheet).
A7: 3. Taper and Test - Take this 6th week to actually find your 1 rep max using the 'Taper' sheet. Then either deload (using 'Deload' sheet) or start new cycle.
A10: Determining Projected Max
A11: If you got 1 rep then keep 1RM the same.
A12: Enter the number of reps you achieved in week 5's 1-7 rep set below.
B13: Week 5 weight | C13: Reps (1-7) | D13: Projected 1RM | E13: Increase
A14: Squat | B14: ='Week 5'!C6 -> 310 | C14: 5 | D14: =MROUND((INDEX($C$21:$C$27,$C14,1)*$B14),2.5) -> 360 | E14: =D14-Inputs!B8 -> 40
A15: Deadlift | B15: ='Week 5'!C22 -> 410 | C15: 3 | D15: =MROUND((INDEX($C$21:$C$27,$C15,1)*$B15),2.5) -> 447.5 | E15: =D15-Inputs!B9 -> 27.5
A16: Bench Press | B16: ='Week 5'!C14 -> 225 | C16: 3 | D16: =MROUND((INDEX($C$21:$C$27,$C16,1)*$B16),2.5) -> 245 | E16: =D16-Inputs!B10 -> 15
A19: RPE-based percentages
A20: Reps | B20: % of max | C20: Increase %
A21: 1 @RPE10 | B21: 1 | C21: 1
A22: 2 @RPE10 | B22: 0.96 | C22: =MROUND(1/B22,0.01) -> 1.04
A23: 3 @RPE10 | B23: 0.92 | C23: =MROUND(1/B23,0.01) -> 1.09
A24: 4 @RPE10 | B24: 0.89 | C24: =MROUND(1/B24,0.01) -> 1.12
A25: 5 @RPE10 | B25: 0.86 | C25: =MROUND(1/B25,0.01) -> 1.16
A26: 6 @RPE10 | B26: 0.84 | C26: =MROUND(1/B26,0.01) -> 1.19
A27: 7 @RPE10 | B27: 0.81 | C27: =MROUND(1/B27,0.01) -> 1.23

Sheet Deload
A1: Deload Week
B3: Lift | C3: Wt. | D3: RPE | E3: Sets | F3: Reps
A5: =Inputs!$B$3+35 -> 43136
B6: Squat | C6: =MROUND(Inputs!B8*0.8,Inputs!C30) -> 255 | D6: - | E6: 4 | F6: 6
B7: Bench | C7: =MROUND(Inputs!B10*0.7,Inputs!C30) -> 160 | D7: - | E7: 3 | F7: 3
B8: =Inputs!B17 -> Close Grip Bench | D8: RPE9 | E8: 3 | F8: 8
B9: Deadlift | C9: =MROUND(Inputs!B9*0.8,Inputs!C30) -> 335 | D9: - | E9: 2 | F9: 6
A11: =Inputs!$B$3+36 -> 43137
B12: Bench | C12: =MROUND(Inputs!B10*0.7,Inputs!C30) -> 160 | D12: - | E12: 3 | F12: 3
B13: =Inputs!B18 -> Incline DB Press | D13: RPE9 | E13: 3 | F13: 6
B14: =Inputs!$B$24 -> Barbell Row | D14: RPE8 | E14: 4 | F14: 44110
B15: =Inputs!$B$25 -> Seated DB OHP | D15: RPE8 | E15: 4 | F15: 44173
B16: =Inputs!$B$26 -> Weighted Pull-up (neutral grip) | D16: RPE8 | E16: 4 | F16: 44173
A18: =Inputs!$B$3+38 -> 43139
B19: Bench | C19: =MROUND(Inputs!B10*0.7,Inputs!C30) -> 160 | D19: - | E19: 3 | F19: 3
B20: =Inputs!B17 -> Close Grip Bench | D20: RPE9 | E20: 3 | F20: 6
B21: =Inputs!$B$24 -> Barbell Row | D21: RPE8 | E21: 4 | F21: 44110
B22: =Inputs!$B$25 -> Seated DB OHP | D22: RPE8 | E22: 4 | F22: 44173
B23: =Inputs!$B$26 -> Weighted Pull-up (neutral grip) | D23: RPE8 | E23: 4 | F23: 44173
A25: =Inputs!$B$3+39 -> 43140
B26: Squat | C26: =MROUND(Inputs!B8*0.7,Inputs!C30) -> 225 | D26: - | E26: 4 | F26: 8
B27: Bench | C27: =MROUND(Inputs!B10*0.7,Inputs!C30) -> 160 | D27: - | E27: 3 | F27: 3
B28: =Inputs!B18 -> Incline DB Press | C28: RPE9 | D28: - | E28: 3 | F28: 3
B29: Deadlift | C29: =MROUND(Inputs!B9*0.7,Inputs!C30) -> 295 | D29: - | E29: 2 | F29: 8

Sheet Taper
A1: Taper Week
B3: Lift | C3: Wt. | D3: RPE | E3: Sets | F3: Reps
A5: =Inputs!$B$3+35 -> 43136
B6: Squat | C6: =MROUND(Inputs!$B$8*0.92,Inputs!$C$30) -> 295 | D6: RPE8 | E6: 1 | F6: 1 | H6: Note - Set 1 above is an estimated opener ~ RPE8 / 92%
C7: =MROUND(Inputs!$B$8*0.82,Inputs!$C$30) -> 260 | D7: - | E7: 3 | F7: 2
B8: Bench | C8: =MROUND(Inputs!B10*0.92,Inputs!C30) -> 210 | D8: RPE8 | E8: 1 | F8: 1 | H8: Note - Set 1 above is an estimated opener ~ RPE8 / 92%
C9: =MROUND(Inputs!B10*0.84,Inputs!C30) -> 195 | D9: - | E9: 3 | F9: 2
A11: =Inputs!$B$3+36 -> 43137
B12: Deadlift | C12: =MROUND(Inputs!$B$9*0.92,Inputs!$C$30) -> 385 | D12: RPE8 | E12: 1 | F12: 1 | H12: Note - Set 1 above is an estimated opener ~ RPE8 / 92%
C13: =MROUND(Inputs!$B$9*0.82,Inputs!$C$30) -> 345 | D13: - | E13: 2 | F13: 2
B14: Bench | C14: =MROUND(Inputs!$B$10*0.85,Inputs!$C$30) -> 195 | D14: - | E14: 4 | F14: 1
A16: =Inputs!$B$3+38 -> 43139
B17: Squat | C17: =MROUND(Inputs!$B$8*0.85,Inputs!$C$30) -> 270 | D17: - | E17: 1 | F17: 1
C18: =MROUND(Inputs!$B$8*0.78,Inputs!$C$30) -> 250 | D18: - | E18: 2 | F18: 2
B19: Bench | C19: =MROUND(Inputs!$B$10*0.85,Inputs!$C$30) -> 195 | D19: - | E19: 1 | F19: 1
C20: =MROUND(Inputs!$B$10*0.78,Inputs!$C$30) -> 180 | D20: - | E20: 3 | F20: 2
B21: Deadlift | C21: =MROUND(Inputs!$B$9*0.82,Inputs!$C$30) -> 345 | D21: - | E21: 1 | F21: 1
C22: =MROUND(Inputs!$B$9*0.75,Inputs!$C$30) -> 315 | D22: - | E22: 2 | F22: 2
A24: =Inputs!$B$3+39 -> 43140
B25: Squat | C25: =MROUND(Inputs!B8*0.75,Inputs!C30) -> 240 | D25: - | E25: 2 | F25: 3
B26: Bench | C26: =MROUND(Inputs!B10*0.78,Inputs!C30) -> 180 | D26: - | E26: 3 | F26: 3
B27: Deadlift | C27: =MROUND(Inputs!B9*0.75,Inputs!C30) -> 315 | D27: - | E27: 1 | F27: 3
A29: =Inputs!$B$3+6 -> 43107 | H29: Test day - estimated opener is input - but not limitted to this. 2nd and 3rd attempts are left to your own judgment. Get it!
B30: Squat | C30: =MROUND(Inputs!$B$8*0.92,Inputs!$C$30) -> 295 | D30: RPE8 | E30: 1 | F30: 1
D31: - | E31: 1 | F31: 1
D32: RPE10 | E32: 1 | F32: 1
B33: Bench | C33: =MROUND(Inputs!$B$10*0.92,Inputs!$C$30) -> 210 | D33: RPE8 | E33: 1 | F33: 1
D34: - | E34: 1 | F34: 1
D35: RPE10 | E35: 1 | F35: 1
B36: Deadlift | C36: =MROUND(Inputs!$B$9*0.82,Inputs!$C$30) -> 345 | D36: RPE8 | E36: 1 | F36: 1
D37: - | E37: 1 | F37: 1
D38: RPE10 | E38: 1 | F38: 1
A40: Enter your new 1RM's below to see your progress!
C41: Old 1RM | D41: New 1RM | E41: Increase
B42: Squat | C42: =Inputs!B8 -> 320 | D42: 200 | E42: =D42-C42 -> -120
B43: Deadlift | C43: =Inputs!B9 -> 420 | D43: 200 | E43: =D43-C43 -> -220
B44: Bench Press | C44: =Inputs!B10 -> 230 | D44: 200 | E44: =D44-C44 -> -30
