Workbook

Sheet Inputs
A1: To Save: File --> Make a Copy | Thanks, FitFrek.com
A2: Candito 6 Week Strength Program | K2: Options
K3: Weight | L3: Upper Back #1 (Horizontal pull) | M3: Shoulders | N3: Upper Back #2 (vertical pull)
A4: Complete the fields in blue, and excel will automatically formulate your workouts, each week is printable. | K4: kg | L4: Dumbbell Row | M4: Seated Dumbbell OHP | N4: Weighted Pull-up
K5: lb | L5: Barbell Row | M5: Standing Dumbbell OHP | N5: Weighted Chin-up | O5: Week | P5: Accessory 1 | Q5: Accessory 2
A6: What date do you want to start the Program? | B6: 44767 | L6: Machine Row | M6: Military Press | N6: Lat Pulldown | O6: 1 | P6: Squats (60%, 3x8) | Q6: Paused Squats (60%, 3x3)
A7: Date | M7: Lateral Dumbell Raise | O7: 2 | P7: Squats (70%, 3x8) | Q7: Paused Squats (70%, 3x3)
O8: 3 | P8: Paused Squats (80%, 3x2)
A9: Do you track your weights in kilograms or pounds? | O9: 4 | P9: Paused Squats (90%, 2x2)
A10: Weights in | B10: lb | O10: 5 | P10: Paused Squats (95%, 2x1)
A12: What are your 1RM's for the following lifts?
A13: Bench Press | B13: 225 | C13: =B10 -> lb | O13: Week | P13: Accessory 1 | Q13: Accessory 2
A14: Squat | B14: 275 | C14: =B10 -> lb | O14: 1 | P14: Conventional Deadlift (65-70%, 3x5)
A15: Deadlift | B15: 315 | C15: =B10 -> lb | O15: 2 | P15: Conventional Deadlift (75-80%, 4x3) | Q15: Paused Sumo (70%, 2x4)
O16: 3 | P16: Paused Sumo (80%, 3x3) | Q16: Deficit Paused (70%, 3x3)
A17: Choose Your Preferred Accessory Exercises | O17: 4 | P17: Paused Sumo (85-90%, 3x2) | Q17: Deficit Paused (70%, 3x3)
A18: Upper Back Exercise #1 (horizontal pull) | B18: Barbell Row | O18: 5 | P18: Paused Sumo (90%, 2x2) | Q18: Deficit Paused (75%, 3x3)
A19: Shoulder Exercise | B19: Military Press
A20: Upper Back Exercise #2 (vertical pull) | B20: Weighted Pull-up | O20: Week | P20: Accessory 1 | Q20: Accessory 2
O21: 1 | P21: Larsen Press (70%, 3x5) | Q21: Closed-Grip (60%, 3x8)
A22: Additional Information | O22: 2 | P22: Larsen Press (80%, 4x4) | Q22: Closed-Grip (70%, 3x5)
A23: MR = Max Reps | O23: 3 | P23: Paused Bench (85%, 3x3) | Q23: Larsen Press (80%, 3x2)
A24: MR10 = Max Reps but no more than 10. | O24: 4 | P24: Paused Bench (90%, 3x2)
A25: Deadlift Variation = Stiff Legged DL, Snatch Grip DL, Deficit DL, or Pause DL. | O25: 5 | P25: Paused Bench (95 - 97.5%, 3x1)
A26: If you ever fail a required rep, reduce your max by 2.5%.

Sheet Week 1
A1: Week 1 - Muscular Conditioning (W/ Moderate Difficulty)
A3: =Inputs!B6 -> 44767
C4: Set 1 | E4: Set 2 | G4: Set 3 | I4: Set 4
A5: Squat | B5: Warm Up | C5: =IF((Inputs!B10="kg"),MROUND((Inputs!B14*0.8),2.5),MROUND((Inputs!B14*0.8),5)) -> 220 | D5: x6 | E5: =C5 -> 220 | F5: x6 | G5: =E5 -> 220 | H5: x6 | I5: =G5 -> 220 | J5: x6
A6: Deadlift | B6: Warm Up | C6: =IF((Inputs!B10="kg"),MROUND((Inputs!B15*0.8),2.5),MROUND((Inputs!B15*0.8),5)) -> 250 | D6: x6 | E6: =C6 -> 250 | F6: x6
A7: Optional Exercise 1 | B7: Warm Up
A8: Optional Exercise 2 | B8: Warm Up
A10: =Inputs!B6+1 -> 44768
C11: Set 1 | E11: Set 2 | G11: Set 3 | I11: Set 4
A12: Bench Press | B12: Warm Up | C12: =IF((Inputs!B10="kg"),MROUND((Inputs!B13*0.5),2.5),MROUND((Inputs!B13*0.5),5)) -> 115 | D12: x10 | E12: =IF((Inputs!B10="kg"),MROUND((Inputs!B13*0.675),2.5),MROUND((Inputs!B13*0.675),5)) -> 150 | F12: x10 | G12: =IF((Inputs!B10="kg"),MROUND((Inputs!B13*0.75),2.5),MROUND((Inputs!B13*0.75),5)) -> 170 | H12: x8 | I12: =IF((Inputs!B10="kg"),MROUND((Inputs!B13*0.775),2.5),MROUND((Inputs!B13*0.775),5)) -> 175 | J12: x6
A13: =Inputs!B18 -> Barbell Row | B13: Warm Up | D13: x10 | F13: x10 | H13: x8 | J13: x6
A14: =Inputs!B19 -> Military Press | B14: Warm Up | D14: x12 | F14: x12 | H14: x10 | J14: x8
A15: =Inputs!B20 -> Weighted Pull-up | B15: Warm Up | D15: x12 | F15: x12 | H15: x10 | J15: x8
A16: Optional Exercise 1 | B16: Warm Up | D16: x8-12 | F16: x8-12 | H16: x8-12 | J16: x8-12
A17: Optional Exercise 2 | B17: Warm Up | D17: x8-12 | F17: x8-12 | H17: x8-12 | J17: x8-12
A19: =Inputs!B6+3 -> 44770
C20: Set 1 | E20: Set 2 | G20: Set 3 | I20: Set 4
A21: Bench Press | B21: Warm Up | C21: =IF((Inputs!B10="kg"),MROUND((Inputs!B13*0.5),2.5),MROUND((Inputs!B13*0.5),5)) -> 115 | D21: x10 | E21: =IF((Inputs!B10="kg"),MROUND((Inputs!B13*0.675),2.5),MROUND((Inputs!B13*0.675),5)) -> 150 | F21: x10 | G21: =IF((Inputs!B10="kg"),MROUND((Inputs!B13*0.75),2.5),MROUND((Inputs!B13*0.75),5)) -> 170 | H21: x8 | I21: =IF((Inputs!B10="kg"),MROUND((Inputs!B13*0.775),2.5),MROUND((Inputs!B13*0.775),5)) -> 175 | J21: x6
A22: =Inputs!B18 -> Barbell Row | B22: Warm Up | D22: x10 | F22: x10 | H22: x8 | J22: x6
A23: =Inputs!B19 -> Military Press | B23: Warm Up | D23: x12 | F23: x12 | H23: x10 | J23: x8
A24: =Inputs!B20 -> Weighted Pull-up | B24: Warm Up | D24: x12 | F24: x12 | H24: x10 | J24: x8
A25: Optional Exercise 1 | B25: Warm Up | D25: x8-12 | F25: x8-12 | H25: x8-12 | J25: x8-12
A26: Optional Exercise 2 | B26: Warm Up | D26: x8-12 | F26: x8-12 | H26: x8-12 | J26: x8-12
A28: =Inputs!B6+4 -> 44771
C29: Set 1 | E29: Set 2 | G29: Set 3 | I29: Set 4
A30: Squat | B30: Warm Up | C30: =IF((Inputs!B35="kg"),MROUND((Inputs!B14*0.7),2.5),MROUND((Inputs!B14*0.7),5)) -> 195 | D30: x8 | E30: =C30 -> 195 | F30: x8 | G30: =E30 -> 195 | H30: x8 | I30: =G30 -> 195 | J30: x8
A31: Deadlift | B31: Warm Up | C31: =IF((Inputs!B35="kg"),MROUND((Inputs!B15*0.7),2.5),MROUND((Inputs!B15*0.7),5)) -> 220 | D31: x8 | E31: =C31 -> 220 | F31: x8
A32: Optional Exercise 1 | B32: Warm Up
A33: Optional Exercise 2 | B33: Warm Up
A35: =Inputs!B6+5 -> 44772
C36: Set 1 | E36: Set 2 | G36: Set 3 | I36: Set 4
A37: Bench Press | B37: Warm Up | C37: =IF((Inputs!B10="kg"),MROUND((Inputs!B13*0.8),2.5),MROUND((Inputs!B13*0.8),5)) -> 180 | D37: xMR
A38: =Inputs!B18 -> Barbell Row | B38: Warm Up | D38: x10 | F38: x10 | H38: x8 | J38: x6
A39: =Inputs!B19 -> Military Press | B39: Warm Up | D39: x12 | F39: x12 | H39: x10 | J39: x8
A40: =Inputs!B20 -> Weighted Pull-up | B40: Warm Up | D40: x12 | F40: x12 | H40: x10 | J40: x8
A41: Optional Exercise 1 | B41: Warm Up | D41: x8-12 | F41: x8-12 | H41: x8-12 | J41: x8-12
A42: Optional Exercise 2 | B42: Warm Up | D42: x8-12 | F42: x8-12 | H42: x8-12 | J42: x8-12

Sheet Week 2
A1: Week 2 - Muscular Conditioning/Hypertrophy (W/ Higher Difficulty)
A3: =Inputs!B6+7 -> 44774
C4: Set 1 | E4: Set 2 | G4: Set 3 | I4: Set 4
A5: Squat | B5: Warm Up | C5: =IF((Inputs!B10="kg"),MROUND((Inputs!B14*0.8),2.5),MROUND((Inputs!B14*0.8),5)) -> 220 | D5: xMR10
A6: Extra Volume Squats - Add 5 lbs or 2.5 kg if using kg plates, then perform 5 sets x 3 reps each set with 60 seconds rest between sets.
A7: Note - If you were not able to complete a minimum of 8 reps on the MR10 set, reduce max entered by 2.5% moving forward.
A8: Still complete the 5 sets of 3 reps regardless even if you do perform less than 8 reps on the MR10 set.
A9: Deadlift Variation | B9: Warm Up | D9: x8 | F9: x8 | H9: x8
A10: Optional Exercise 1 | B10: Warm Up
A11: Optional Exercise 2 | B11: Warm Up
A13: =Inputs!B6+8 -> 44775
C14: Set 1 | E14: Set 2 | G14: Set 3 | I14: Set 4
A15: Bench Press | B15: Warm Up | C15: =IF((Inputs!B10="kg"),MROUND((Inputs!B13*0.725),2.5),MROUND((Inputs!B13*0.725),5)) -> 165 | D15: x10 | E15: =IF((Inputs!B10="kg"),MROUND((Inputs!B13*0.775),2.5),MROUND((Inputs!B13*0.775),5)) -> 175 | F15: x8 | G15: =IF((Inputs!B10="kg"),(MROUND((Inputs!B13*0.8),2.5)+2.5),(MROUND((Inputs!B13*0.8),5)+5)) -> 185 | H15: x6-8
A16: =Inputs!B18 -> Barbell Row | B16: Warm Up | D16: x10 | F16: x8 | H16: x8
A17: =Inputs!B19 -> Military Press | B17: Warm Up | D17: x10 | F17: x8 | H17: x6
A18: =Inputs!B20 -> Weighted Pull-up | B18: Warm Up | D18: x10 | F18: x8 | H18: x6
A19: Optional Exercise 1 | B19: Warm Up | D19: x8-12 | F19: x8-12 | H19: x8-12 | J19: x8-12
A20: Optional Exercise 2 | B20: Warm Up | D20: x8-12 | F20: x8-12 | H20: x8-12 | J20: x8-12
A22: =Inputs!B6+10 -> 44777
C23: Set 1 | E23: Set 2 | G23: Set 3 | I23: Set 4
A24: Squat | B24: Warm Up | C24: =IF((Inputs!B10="kg"),(MROUND((Inputs!B14*0.8),2.5)+2.5),(MROUND((Inputs!B14*0.8),5)+5)) -> 225 | D24: xMR10
A25: Back Off Squats - Reduce weight by 10 lbs or 5 kg if using kg plates. Then proceed with the following:
A26: If you were able to complete 10 reps on the MR10 set, perform 10 sets of 3 reps per set, with 60 seconds rest between sets.
A27: If you completed 8-9 reps on the MR10 set, perform 8 sets of 3 reps per set, with 60 seconds rest between sets.
A28: If you completed 7 reps on the MR 10 set, perform 5 sets of 3 reps per set, with 60 seconds rest between sets.
A29: If you completed less than 7 reps, skip back off sets entirely and reduce your entered 1 rep max by at least 2.5% for following weeks.
A30: Deadlift Variation | B30: Warm Up | D30: x8 | F30: x8 | H30: x8
A31: Optional Exercise 1 | B31: Warm Up
A32: Optional Exercise 2 | B32: Warm Up
A34: =Inputs!B6+11 -> 44778
C35: Set 1 | E35: Set 2 | G35: Set 3 | I35: Set 4
A36: Bench Press | B36: Warm Up | C36: =IF((Inputs!B10="kg"),MROUND((Inputs!B13*0.725),2.5),MROUND((Inputs!B13*0.725),5)) -> 165 | D36: x10 | E36: =IF((Inputs!B10="kg"),MROUND((Inputs!B13*0.775),2.5),MROUND((Inputs!B13*0.775),5)) -> 175 | F36: x8 | G36: =IF((Inputs!B10="kg"),(MROUND((Inputs!B13*0.8),2.5)+2.5),(MROUND((Inputs!B13*0.8),5)+5)) -> 185 | H36: x6-8
A37: =Inputs!B18 -> Barbell Row | B37: Warm Up | D37: x10 | F37: x8 | H37: x8
A38: =Inputs!B19 -> Military Press | B38: Warm Up | D38: x10 | F38: x8 | H38: x6
A39: =Inputs!B20 -> Weighted Pull-up | B39: Warm Up | D39: x10 | F39: x8 | H39: x6
A40: Optional Exercise 1 | B40: Warm Up | D40: x8-12 | F40: x8-12 | H40: x8-12 | J40: x8-12
A41: Optional Exercise 2 | B41: Warm Up | D41: x8-12 | F41: x8-12 | H41: x8-12 | J41: x8-12
A43: =A34+2 -> 44780
C44: Set 1 | E44: Set 2 | G44: Set 3 | I44: Set 4
A45: Bench Press | B45: Warm Up | C45: =IF((Inputs!B10="kg"),(MROUND((Inputs!B13*0.8),2.5)-2.5),(MROUND((Inputs!B13*0.8),5)-5)) -> 175 | D45: xMR
...

Sheet Sheet1

Sheet Week 3
A1: Week 3 - Linear Max OT Phase
A3: =Inputs!B6+14 -> 44781
C4: Set 1 | E4: Set 2 | G4: Set 3 | I4: Set 4
A5: Squat | B5: Warm Up | C5: =IF((Inputs!B10="kg"),(MROUND((Inputs!B14*0.85),2.5)+2.5),(MROUND((Inputs!B14*0.85),5)+5)) -> 240 | D5: x4-6 | E5: =IF((Inputs!B10="kg"),(MROUND((Inputs!B14*0.85),2.5)+2.5),(MROUND((Inputs!B14*0.85),5)+5)) -> 240 | F5: x4-6 | G5: =IF((Inputs!B10="kg"),(MROUND((Inputs!B14*0.85),2.5)+2.5),(MROUND((Inputs!B14*0.85),5)+5)) -> 240 | H5: x4-6
A6: Deadlift | B6: Warm Up | C6: =IF((Inputs!B10="kg"),MROUND((Inputs!B15*0.875),2.5),MROUND((Inputs!B15*0.875),5)) -> 275 | D6: x3-6 | E6: =IF((Inputs!B10="kg"),MROUND((Inputs!B15*0.875),2.5),MROUND((Inputs!B15*0.875),5)) -> 275 | F6: x3-6
A7: No Accessory Lifts
A9: =A3+2 -> 44783
C10: Set 1 | E10: Set 2 | G10: Set 3 | I10: Set 4
A11: Bench Press | B11: Warm Up | C11: =IF((Inputs!B10="kg"),MROUND((Inputs!B13*0.85),2.5),MROUND((Inputs!B13*0.85),5)) -> 190 | D11: x4-6 | E11: =IF((Inputs!B10="kg"),MROUND((Inputs!B13*0.85),2.5),MROUND((Inputs!B13*0.85),5)) -> 190 | F11: x4-6 | G11: =IF((Inputs!B10="kg"),MROUND((Inputs!B13*0.85),2.5),MROUND((Inputs!B13*0.85),5)) -> 190 | H11: x4-6
A12: =Inputs!B18 -> Barbell Row | B12: Warm Up | D12: x6 | F12: x6 | H12: x6
A13: =Inputs!B19 -> Military Press | B13: Warm Up | D13: x6 | F13: x6 | H13: x6
A14: =Inputs!B20 -> Weighted Pull-up | B14: Warm Up | D14: x6 | F14: x6 | H14: x6
A15: No Optional Exercises
A17: =A9+2 -> 44785
C18: Set 1 | E18: Set 2 | G18: Set 3 | I18: Set 4
A19: Squat | B19: Warm Up | C19: =IF((Inputs!B10="kg"),(MROUND(((Inputs!B14*0.85)+2.5),2.5)+2.5),(MROUND(((Inputs!B14*0.85)+5),5)+5)) -> 245 | D19: x4-6
A20: Deadlift Variation | B20: Warm Up | D20: x8
A21: No Accessory Lifts
A23: =A9+3 -> 44786
C24: Set 1 | E24: Set 2 | G24: Set 3 | I24: Set 4
A25: Bench Press | B25: Warm Up | C25: =IF((Inputs!B10="kg"),(C11+2.5),(C11+5)) -> 195 | D25: x4-6 | E25: =IF((Inputs!B10="kg"),(E11+2.5),(E11+5)) -> 195 | F25: x4-6 | G25: =IF((Inputs!B10="kg"),(G11+2.5),(G11+5)) -> 195 | H25: x4-6
A26: =Inputs!B18 -> Barbell Row | B26: Warm Up | D26: x6 | F26: x6 | H26: x6
A27: =Inputs!B19 -> Military Press | B27: Warm Up | D27: x6 | F27: x6 | H27: x6
A28: =Inputs!B20 -> Weighted Pull-up | B28: Warm Up | D28: x6 | F28: x6 | H28: x6
A29: No Optional Exercises

Sheet Week 4
A1: Week 4 - Heavy Weight Acclimation
A3: =Inputs!B6+21 -> 44788
C4: Set 1 | E4: Set 2 | G4: Set 3 | I4: Set 4
A5: Squat | B5: Warm Up | C5: =IF((Inputs!B10="kg"),(MROUND((Inputs!B14*0.9),2.5)-2.5),(MROUND((Inputs!B14*0.9),5)-5)) -> 245 | D5: x3 | E5: =IF((Inputs!B10="kg"),MROUND((Inputs!B14*0.9),2.5),MROUND((Inputs!B14*0.9),5)) -> 250 | F5: x3 | G5: =IF((Inputs!B10="kg"),(MROUND((Inputs!B14*0.9),2.5)+2.5),(MROUND((Inputs!B14*0.9),5)+5)) -> 255 | H5: x3
A6: Deadlift Variation | B6: Warm Up | D6: x6 | F6: x6
A7: Optional Exercise 1 | B7: Warm Up
A8: Optional Exercise 2 | B8: Warm Up
A10: =A3+1 -> 44789
C11: Set 1 | E11: Set 2 | G11: Set 3 | I11: Set 4
A12: Bench Press | B12: Warm Up | C12: =IF((Inputs!B10="kg"),MROUND(((Inputs!B13*0.875)-5),2.5),MROUND(((Inputs!B13*0.875)-5),5)) -> 190 | D12: x3 | E12: =IF((Inputs!B10="kg"),MROUND(((Inputs!B13*0.9)-5),2.5),MROUND(((Inputs!B13*0.9)-5),5)) -> 200 | F12: x3 | G12: =IF((Inputs!B10="kg"),MROUND((Inputs!B13*0.9),2.5),MROUND((Inputs!B13*0.9),5)) -> 205 | H12: x3
A13: =Inputs!B18 -> Barbell Row | B13: Warm Up | D13: x10 | F13: x10 | H13: x8 | J13: x6
A14: =Inputs!B19 -> Military Press | B14: Warm Up | D14: x12 | F14: x12 | H14: x10 | J14: x8
A15: =Inputs!B20 -> Weighted Pull-up | B15: Warm Up | D15: x12 | F15: x12 | H15: x10 | J15: x8
A16: Optional Exercise 1 | B16: Warm Up | D16: x8-12 | F16: x8-12 | H16: x8-12 | J16: x8-12
A17: Optional Exercise 2 | B17: Warm Up | D17: x8-12 | F17: x8-12 | H17: x8-12 | J17: x8-12
A19: =A10+2 -> 44791
C20: Set 1 | E20: Set 2 | G20: Set 3 | I20: Set 4
A21: Squat | B21: Warm Up | C21: =IF((Inputs!B10="kg"),(MROUND((Inputs!B14*0.9),2.5)+2.5),(MROUND((Inputs!B14*0.9),5)+5)) -> 255 | D21: x3 | E21: =IF((Inputs!B10="kg"),MROUND((Inputs!B14*0.95),2.5),MROUND((Inputs!B14*0.95),5)) -> 260 | F21: x1-2
A22: Deadlift | B22: Warm Up | C22: =IF((Inputs!B10="kg"),(MROUND((Inputs!B15*0.9),2.5)+2.5),(MROUND((Inputs!B15*0.9),5)+5)) -> 290 | D22: x3 | E22: =IF((Inputs!B10="kg"),MROUND((Inputs!B15*0.95),2.5),MROUND((Inputs!B15*0.95),5)) -> 300 | F22: x1-2
A23: Optional Exercise 1 | B23: Warm Up
A24: Optional Exercise 2 | B24: Warm Up
A26: =A19+1 -> 44792
C27: Set 1 | E27: Set 2 | G27: Set 3 | I27: Set 4
A28: Bench Press | B28: Warm Up | C28: =IF((Inputs!B10="kg"),MROUND((Inputs!B13*0.875),2.5),MROUND((Inputs!B13*0.875),5)) -> 195 | D28: x3 | E28: =IF((Inputs!B10="kg"),MROUND((Inputs!B13*0.9),2.5),MROUND((Inputs!B13*0.9),5)) -> 205 | F28: x2-4 | G28: =IF((Inputs!B10="kg"),MROUND((Inputs!B13*0.95),2.5),MROUND((Inputs!B13*0.95),5)) -> 215 | H28: x1-2
A29: =Inputs!B18 -> Barbell Row | B29: Warm Up | D29: x10 | F29: x10 | H29: x8 | J29: x6
A30: =Inputs!B19 -> Military Press | B30: Warm Up | D30: x12 | F30: x12 | H30: x10 | J30: x8
A31: =Inputs!B20 -> Weighted Pull-up | B31: Warm Up | D31: x12 | F31: x12 | H31: x10 | J31: x8
A32: Optional Exercise 1 | B32: Warm Up | D32: x8-12 | F32: x8-12 | H32: x8-12 | J32: x8-12
A33: Optional Exercise 2 | B33: Warm Up | D33: x8-12 | F33: x8-12 | H33: x8-12 | J33: x8-12

Sheet Week 5
A1: Week 5 - High Intensity Strength
A3: =Inputs!B6+28 -> 44795
C4: Set 1 | E4: Set 2 | G4: Set 3 | I4: Set 4
A5: Squat | B5: Warm Up | C5: =IF((Inputs!B10="kg"),MROUND((Inputs!B14*0.975),2.5),MROUND((Inputs!B14*0.975),5)) -> 270 | D5: x1-4
A6: Deadlift | B6: Warm Up | C6: =IF((Inputs!B10="kg"),MROUND((Inputs!B15*0.675),2.5),MROUND((Inputs!B15*0.675),5)) -> 215 | D6: x4 | E6: =IF((Inputs!B10="kg"),MROUND((Inputs!B15*0.7),2.5),MROUND((Inputs!B15*0.7),5)) -> 220 | F6: x4 | G6: =IF((Inputs!B10="kg"),MROUND((Inputs!B15*0.725),2.5),MROUND((Inputs!B15*0.725),5)) -> 230 | H6: x2
A7: Optional Lower Body | B7: Warm Up
A8: Optional Lower Body | B8: Warm Up
A10: =A3+2 -> 44797
C11: Set 1 | E11: Set 2 | G11: Set 3 | I11: Set 4
A12: Bench Press | B12: Warm Up | C12: =IF((Inputs!B10="kg"),MROUND((Inputs!B13*0.975),2.5),MROUND((Inputs!B13*0.975),5)) -> 220 | D12: x1-4
A13: =Inputs!B18 -> Barbell Row | B13: Warm Up | D13: x8 | F13: x6 | H13: x6
A14: =Inputs!B19 -> Military Press | B14: Warm Up | D14: x8 | F14: x6 | H14: x6
A15: =Inputs!B20 -> Weighted Pull-up | B15: Warm Up | D15: x8 | F15: x6 | H15: x6
A16: Optional Exercise 1 | B16: Warm Up | D16: x8-12 | F16: x8-12 | H16: x8-12
A17: Optional Exercise 2 | B17: Warm Up | D17: x8-12 | F17: x8-12 | H17: x8-12
A19: =A10+2 -> 44799
C20: Set 1 | E20: Set 2 | G20: Set 3 | I20: Set 4
A21: Deadlift | B21: Warm Up | C21: =IF((Inputs!B10="kg"),MROUND((Inputs!B15*0.975),2.5),MROUND((Inputs!B15*0.975),5)) -> 305 | D21: x1-4
A22: Optional Lower Body | B22: Warm Up
A23: Optional Lower Body | B23: Warm Up

Sheet Week 6
A1: For Week 6 You Have 3 Options
A2: 1. Skip Week 6. Just use projected one rep max from last week's 1-4 rep set. Start next cycle.
A3: 2. Use projected max for next cycle, but take a deload week (repeat week 1 but skip last upper workout).
A4: 3. Take this 6th week to actually find your 1 rep max. Then either deload or start new cycle.
A6: Determining Projected Max
A7: Take what you lifted in week 5, and multiply by 1.03 if you completed 2 reps, 1.06 if 3 reps, and 1.09 if 4 reps.
A9: Enter your new 1RM's below to see your progress!
B10: Old 1RM | C10: New 1RM | D10: Increase
A11: Bench Press | B11: =Inputs!B13 -> 225 | C11: 350 | D11: =C11-B11 -> 125
A12: Squat | B12: =Inputs!B14 -> 275 | C12: 550 | D12: =C12-B12 -> 275
A13: Deadlift | B13: =Inputs!B15 -> 315 | C13: 620 | D13: =C13-B13 -> 305
